BEGIN:VCALENDAR
VERSION:2.0
PRODID:-//achurchnearyou.com//eventfeed//EN
CALSCALE:GREGORIAN
METHOD:PUBLISH
X-WR-TIMEZONE:UTC
BEGIN:VEVENT
SUMMARY:Sunday 26th April 9.30am Watton Prayer and Praise
DTSTART:20260426T083000Z
DTEND:20260426T093000Z
DTSTAMP:20260422T111434Z
UID:13253732026-04-26 08:30:00+00:00achurchnearyou
CATEGORIES:
DESCRIPTION:Prayer and Praise service All welcome
LOCATION:St Andrew & St Mary
URL:https://www.achurchnearyou.com/church/7903/service-and-events/events/1
 325373/
END:VEVENT
END:VCALENDAR
