BEGIN:VCALENDAR
VERSION:2.0
PRODID:-//achurchnearyou.com//eventfeed//EN
CALSCALE:GREGORIAN
METHOD:PUBLISH
X-WR-TIMEZONE:UTC
BEGIN:VEVENT
SUMMARY:Ash Wednesday Service
DTSTART:20260218T193000Z
DTEND:20260218T203000Z
DTSTAMP:20260420T012427Z
UID:12917822026-02-18 19:30:00+00:00achurchnearyou
CATEGORIES:
DESCRIPTION:A service of repentance and reflection led by the Benefice Cho
 ir at the start of Lent.
GEO:-0.061468;51.856258
LOCATION:St Catherine's\, Sacombe
URL:https://www.achurchnearyou.com/church/7906/service-and-events/events/1
 291782/
END:VEVENT
END:VCALENDAR
