BEGIN:VCALENDAR
VERSION:2.0
PRODID:-//achurchnearyou.com//eventfeed//EN
CALSCALE:GREGORIAN
METHOD:PUBLISH
X-WR-TIMEZONE:UTC
BEGIN:VEVENT
SUMMARY:Sunday  15th March 11am Aston Holy Communion Lent 4
DTSTART:20260315T110000Z
DTEND:20260315T120000Z
DTSTAMP:20260422T170042Z
UID:12893372026-03-15 11:00:00+00:00achurchnearyou
CATEGORIES:
DESCRIPTION:Holy Communion service. All welcome
GEO:-0.154584;51.88743
LOCATION:St Mary's Church\, Aston.
URL:https://www.achurchnearyou.com/church/7909/service-and-events/events/1
 289337/
END:VEVENT
END:VCALENDAR
