BEGIN:VCALENDAR
VERSION:2.0
PRODID:-//achurchnearyou.com//eventfeed//EN
CALSCALE:GREGORIAN
METHOD:PUBLISH
X-WR-TIMEZONE:UTC
BEGIN:VEVENT
SUMMARY:Sunday 12th April 11am Watton Contemporary service
DTSTART:20260412T100000Z
DTEND:20260412T110000Z
DTSTAMP:20260422T150406Z
UID:13224382026-04-12 10:00:00+00:00achurchnearyou
CATEGORIES:
DESCRIPTION:Contemporary service All welcome
LOCATION:St Andrew & St Mary
URL:https://www.achurchnearyou.com/church/7909/service-and-events/events/1
 322438/
END:VEVENT
END:VCALENDAR
