BEGIN:VCALENDAR
VERSION:2.0
PRODID:-//achurchnearyou.com//eventfeed//EN
CALSCALE:GREGORIAN
METHOD:PUBLISH
X-WR-TIMEZONE:UTC
BEGIN:VEVENT
SUMMARY:Sunday 26th April 11.15am Bramfield Prayer and Praise
DTSTART:20260426T101500Z
DTEND:20260426T111500Z
DTSTAMP:20260422T112947Z
UID:13253882026-04-26 10:15:00+00:00achurchnearyou
CATEGORIES:
DESCRIPTION:Prayer and Praise service All welcome
LOCATION:St Andrew
URL:https://www.achurchnearyou.com/church/7909/service-and-events/events/1
 325388/
END:VEVENT
END:VCALENDAR
