BEGIN:VCALENDAR
VERSION:2.0
PRODID:-//achurchnearyou.com//eventfeed//EN
CALSCALE:GREGORIAN
METHOD:PUBLISH
X-WR-TIMEZONE:UTC
BEGIN:VEVENT
SUMMARY:Palm Sunday Procession and Mass
DTSTART:20250413T093000Z
DTEND:20250413T103000Z
DTSTAMP:20260425T030739Z
UID:11854402025-04-13 09:30:00+00:00achurchnearyou
CATEGORIES:
DESCRIPTION:Our whole parish gathers together at St Michaels.  Please arri
 ve a few minutes early and collect your service book from the church then 
 you will be directed over to our Church hall where we shall begin the serv
 ice with the Palm Gospel reading and procession.  If mobility is a challen
 ge please feel free to remain in church where the service will be introduc
 ed by one of our team as you await the procession arriving and the singing
  of the entrance hymn.  All ages are welcome at this and every parish mass
 .  We have a lovely children's area at the front of church on your right w
 here children and parents are fully able to engage in the whole service wh
 ilst feeling we hope a little more relaxing to play/draw/sit on bean cushi
 ons whilst listening to or observing all that is happening.  Please always
  allow children to explore and come close - we simply ask you keep an eye 
 for their safety as we do have candles alight on the altar and standing ad
 jacent to it.
GEO:-0.141183;51.358412
LOCATION:St Michael & All Angels\, South Beddington
URL:https://www.achurchnearyou.com/church/791/service-and-events/events/11
 85440/
END:VEVENT
END:VCALENDAR
