BEGIN:VCALENDAR
VERSION:2.0
PRODID:-//achurchnearyou.com//eventfeed//EN
CALSCALE:GREGORIAN
METHOD:PUBLISH
X-WR-TIMEZONE:UTC
BEGIN:VEVENT
SUMMARY:Stations of the Cross (following the mass)
DTSTART:20260401T174500Z
DTEND:20260401T184500Z
DTSTAMP:20260423T205917Z
UID:12942732026-04-01 17:45:00+00:00achurchnearyou
CATEGORIES:
DESCRIPTION:Whether with us for the mass or joining separately all are wel
 come.
GEO:-0.141183;51.358412
LOCATION:St Michael & All Angels\, South Beddington
URL:https://www.achurchnearyou.com/church/791/service-and-events/events/12
 94273/
END:VEVENT
END:VCALENDAR
