BEGIN:VCALENDAR
VERSION:2.0
PRODID:-//achurchnearyou.com//eventfeed//EN
CALSCALE:GREGORIAN
METHOD:PUBLISH
X-WR-TIMEZONE:UTC
BEGIN:VEVENT
SUMMARY:Mass with a corporate act of penitence
DTSTART:20260331T170000Z
DTEND:20260331T174500Z
DTSTAMP:20260424T001804Z
UID:12943902026-03-31 17:00:00+00:00achurchnearyou
CATEGORIES:
DESCRIPTION:Join in the Lady Chapel as we continue our journey into the he
 art of Holy Week.
GEO:-0.141183;51.358412
LOCATION:St Michael & All Angels\, South Beddington
URL:https://www.achurchnearyou.com/church/791/service-and-events/events/12
 94390/
END:VEVENT
END:VCALENDAR
