BEGIN:VCALENDAR
VERSION:2.0
PRODID:-//achurchnearyou.com//eventfeed//EN
CALSCALE:GREGORIAN
METHOD:PUBLISH
X-WR-TIMEZONE:UTC
BEGIN:VEVENT
SUMMARY:Service with Prayers for Peace
DTSTART:20251026T150000Z
DTEND:20251026T161500Z
DTSTAMP:20260425T044335Z
UID:12349172025-10-26 15:00:00+00:00achurchnearyou
CATEGORIES:
DESCRIPTION:Join us for a service of sacred and secular words and songs\, 
 featuring the Christ the King Singers. Tea and Cake afterwards.
LOCATION:Christ the King
URL:https://www.achurchnearyou.com/church/7917/service-and-events/events/1
 234917/
END:VEVENT
END:VCALENDAR
