BEGIN:VCALENDAR
VERSION:2.0
PRODID:-//achurchnearyou.com//eventfeed//EN
CALSCALE:GREGORIAN
METHOD:PUBLISH
X-WR-TIMEZONE:UTC
BEGIN:VEVENT
SUMMARY:HOLY INNOCENTS: SERVICE OF THE WORD (HT & CtK)
DTSTART:20251228T094500Z
DTEND:20251228T104500Z
DTSTAMP:20260425T012650Z
UID:12743202025-12-28 09:45:00+00:00achurchnearyou
CATEGORIES:
DESCRIPTION:On Sunday 28 December\, when we remember the Massacre of the H
 oly Innocents\, there will be. a Service of the Word (not a Eucharist) at 
 both churches\, at 09:45 (NB: same time at both churches!)
GEO:-0.206455;51.908567
LOCATION:Holy Trinity\nChrist the King
URL:https://www.achurchnearyou.com/church/7917/service-and-events/events/1
 274320/
END:VEVENT
END:VCALENDAR
