BEGIN:VCALENDAR
VERSION:2.0
PRODID:-//achurchnearyou.com//eventfeed//EN
CALSCALE:GREGORIAN
METHOD:PUBLISH
X-WR-TIMEZONE:UTC
BEGIN:VEVENT
SUMMARY:MacMillan Coffee Morning
DTSTART:20250926T083000Z
DTEND:20250926T110000Z
DTSTAMP:20260420T044604Z
UID:12212422025-09-26 08:30:00+00:00achurchnearyou
CATEGORIES:
DESCRIPTION:Everyone is welcome to pop down and have one of our lovely cup
 s of tea or coffee and enjoy some lovely cake or something savoury\, whils
 t helping to raise money for this very worthy charity. Make sure you put t
 he date in your diary. We are looking forward to seeing you all !!!
GEO:-0.19874;51.901898
LOCATION:St Andrew & St George
URL:https://www.achurchnearyou.com/church/7918/service-and-events/events/1
 221242/
END:VEVENT
END:VCALENDAR
