BEGIN:VCALENDAR
VERSION:2.0
PRODID:-//achurchnearyou.com//eventfeed//EN
CALSCALE:GREGORIAN
METHOD:PUBLISH
X-WR-TIMEZONE:UTC
BEGIN:VEVENT
SUMMARY:Journey to the Cross
DTSTART:20260403T090000Z
DTEND:20260403T094500Z
DTSTAMP:20260423T145730Z
UID:11854872026-04-03 09:00:00+00:00achurchnearyou
CATEGORIES:
DESCRIPTION:A Good Friday service particularly suitable for children and f
 amilies
GEO:0.118103;52.203661
LOCATION:St Bene't's Church
URL:https://www.stbenetschurch.org/lent
END:VEVENT
END:VCALENDAR
