BEGIN:VCALENDAR
VERSION:2.0
PRODID:-//achurchnearyou.com//eventfeed//EN
CALSCALE:GREGORIAN
METHOD:PUBLISH
X-WR-TIMEZONE:UTC
BEGIN:VEVENT
SUMMARY:Easter Sunday Celebration
DTSTART:20250420T090000Z
DTEND:20250420T100000Z
DTSTAMP:20260419T164842Z
UID:11808352025-04-20 09:00:00+00:00achurchnearyou
CATEGORIES:
DESCRIPTION:Holy Communion\nBring your flowers to dress the empty cross
GEO:-2.963456;50.86935
LOCATION:St Mary's\, Chard
URL:https://www.achurchnearyou.com/church/7956/service-and-events/events/1
 180835/
END:VEVENT
END:VCALENDAR
