BEGIN:VCALENDAR
VERSION:2.0
PRODID:-//achurchnearyou.com//eventfeed//EN
CALSCALE:GREGORIAN
METHOD:PUBLISH
X-WR-TIMEZONE:UTC
BEGIN:VEVENT
SUMMARY:Thirst
DTSTART;TZID=Europe/London:20260510T180000
DTEND;TZID=Europe/London:20260510T200000
DTSTAMP:20260422T050525Z
UID:5449552026-05-10 18:00:00+01:00achurchnearyou
CATEGORIES:
DESCRIPTION:A monthly gathering for young people from year 7 to year 13. T
 hirst is our monthly youth service. The purpose is to encourage you in you
 r faith. It’s an opportunity to meet and enjoy a meal together\, hear so
 meone share about something from the Bible or an aspect of faith (this cou
 ld be a young person or adult sharing)\, have a time of sung worship\, and
  time to discuss and pray. All are welcome. This event is run by WCCYM.
LOCATION:Cambourne Church
URL:https://www.achurchnearyou.com/church/7965/service-and-events/events/5
 44955/
END:VEVENT
BEGIN:VEVENT
SUMMARY:Thirst
DTSTART;TZID=Europe/London:20260614T180000
DTEND;TZID=Europe/London:20260614T200000
DTSTAMP:20260422T050525Z
UID:5449552026-06-14 18:00:00+01:00achurchnearyou
CATEGORIES:
DESCRIPTION:A monthly gathering for young people from year 7 to year 13. T
 hirst is our monthly youth service. The purpose is to encourage you in you
 r faith. It’s an opportunity to meet and enjoy a meal together\, hear so
 meone share about something from the Bible or an aspect of faith (this cou
 ld be a young person or adult sharing)\, have a time of sung worship\, and
  time to discuss and pray. All are welcome. This event is run by WCCYM.
LOCATION:Cambourne Church
URL:https://www.achurchnearyou.com/church/7965/service-and-events/events/5
 44955/
END:VEVENT
BEGIN:VEVENT
SUMMARY:Thirst
DTSTART;TZID=Europe/London:20260712T180000
DTEND;TZID=Europe/London:20260712T200000
DTSTAMP:20260422T050525Z
UID:5449552026-07-12 18:00:00+01:00achurchnearyou
CATEGORIES:
DESCRIPTION:A monthly gathering for young people from year 7 to year 13. T
 hirst is our monthly youth service. The purpose is to encourage you in you
 r faith. It’s an opportunity to meet and enjoy a meal together\, hear so
 meone share about something from the Bible or an aspect of faith (this cou
 ld be a young person or adult sharing)\, have a time of sung worship\, and
  time to discuss and pray. All are welcome. This event is run by WCCYM.
LOCATION:Cambourne Church
URL:https://www.achurchnearyou.com/church/7965/service-and-events/events/5
 44955/
END:VEVENT
BEGIN:VEVENT
SUMMARY:Thirst
DTSTART;TZID=Europe/London:20260809T180000
DTEND;TZID=Europe/London:20260809T200000
DTSTAMP:20260422T050525Z
UID:5449552026-08-09 18:00:00+01:00achurchnearyou
CATEGORIES:
DESCRIPTION:A monthly gathering for young people from year 7 to year 13. T
 hirst is our monthly youth service. The purpose is to encourage you in you
 r faith. It’s an opportunity to meet and enjoy a meal together\, hear so
 meone share about something from the Bible or an aspect of faith (this cou
 ld be a young person or adult sharing)\, have a time of sung worship\, and
  time to discuss and pray. All are welcome. This event is run by WCCYM.
LOCATION:Cambourne Church
URL:https://www.achurchnearyou.com/church/7965/service-and-events/events/5
 44955/
END:VEVENT
BEGIN:VEVENT
SUMMARY:Thirst
DTSTART;TZID=Europe/London:20260913T180000
DTEND;TZID=Europe/London:20260913T200000
DTSTAMP:20260422T050525Z
UID:5449552026-09-13 18:00:00+01:00achurchnearyou
CATEGORIES:
DESCRIPTION:A monthly gathering for young people from year 7 to year 13. T
 hirst is our monthly youth service. The purpose is to encourage you in you
 r faith. It’s an opportunity to meet and enjoy a meal together\, hear so
 meone share about something from the Bible or an aspect of faith (this cou
 ld be a young person or adult sharing)\, have a time of sung worship\, and
  time to discuss and pray. All are welcome. This event is run by WCCYM.
LOCATION:Cambourne Church
URL:https://www.achurchnearyou.com/church/7965/service-and-events/events/5
 44955/
END:VEVENT
BEGIN:VEVENT
SUMMARY:Thirst
DTSTART;TZID=Europe/London:20261011T180000
DTEND;TZID=Europe/London:20261011T200000
DTSTAMP:20260422T050525Z
UID:5449552026-10-11 18:00:00+01:00achurchnearyou
CATEGORIES:
DESCRIPTION:A monthly gathering for young people from year 7 to year 13. T
 hirst is our monthly youth service. The purpose is to encourage you in you
 r faith. It’s an opportunity to meet and enjoy a meal together\, hear so
 meone share about something from the Bible or an aspect of faith (this cou
 ld be a young person or adult sharing)\, have a time of sung worship\, and
  time to discuss and pray. All are welcome. This event is run by WCCYM.
LOCATION:Cambourne Church
URL:https://www.achurchnearyou.com/church/7965/service-and-events/events/5
 44955/
END:VEVENT
BEGIN:VEVENT
SUMMARY:Thirst
DTSTART;TZID=Europe/London:20261108T180000
DTEND;TZID=Europe/London:20261108T200000
DTSTAMP:20260422T050525Z
UID:5449552026-11-08 18:00:00+00:00achurchnearyou
CATEGORIES:
DESCRIPTION:A monthly gathering for young people from year 7 to year 13. T
 hirst is our monthly youth service. The purpose is to encourage you in you
 r faith. It’s an opportunity to meet and enjoy a meal together\, hear so
 meone share about something from the Bible or an aspect of faith (this cou
 ld be a young person or adult sharing)\, have a time of sung worship\, and
  time to discuss and pray. All are welcome. This event is run by WCCYM.
LOCATION:Cambourne Church
URL:https://www.achurchnearyou.com/church/7965/service-and-events/events/5
 44955/
END:VEVENT
BEGIN:VEVENT
SUMMARY:Thirst
DTSTART;TZID=Europe/London:20261213T180000
DTEND;TZID=Europe/London:20261213T200000
DTSTAMP:20260422T050525Z
UID:5449552026-12-13 18:00:00+00:00achurchnearyou
CATEGORIES:
DESCRIPTION:A monthly gathering for young people from year 7 to year 13. T
 hirst is our monthly youth service. The purpose is to encourage you in you
 r faith. It’s an opportunity to meet and enjoy a meal together\, hear so
 meone share about something from the Bible or an aspect of faith (this cou
 ld be a young person or adult sharing)\, have a time of sung worship\, and
  time to discuss and pray. All are welcome. This event is run by WCCYM.
LOCATION:Cambourne Church
URL:https://www.achurchnearyou.com/church/7965/service-and-events/events/5
 44955/
END:VEVENT
BEGIN:VEVENT
SUMMARY:Thirst
DTSTART;TZID=Europe/London:20270110T180000
DTEND;TZID=Europe/London:20270110T200000
DTSTAMP:20260422T050525Z
UID:5449552027-01-10 18:00:00+00:00achurchnearyou
CATEGORIES:
DESCRIPTION:A monthly gathering for young people from year 7 to year 13. T
 hirst is our monthly youth service. The purpose is to encourage you in you
 r faith. It’s an opportunity to meet and enjoy a meal together\, hear so
 meone share about something from the Bible or an aspect of faith (this cou
 ld be a young person or adult sharing)\, have a time of sung worship\, and
  time to discuss and pray. All are welcome. This event is run by WCCYM.
LOCATION:Cambourne Church
URL:https://www.achurchnearyou.com/church/7965/service-and-events/events/5
 44955/
END:VEVENT
BEGIN:VEVENT
SUMMARY:Thirst
DTSTART;TZID=Europe/London:20270214T180000
DTEND;TZID=Europe/London:20270214T200000
DTSTAMP:20260422T050525Z
UID:5449552027-02-14 18:00:00+00:00achurchnearyou
CATEGORIES:
DESCRIPTION:A monthly gathering for young people from year 7 to year 13. T
 hirst is our monthly youth service. The purpose is to encourage you in you
 r faith. It’s an opportunity to meet and enjoy a meal together\, hear so
 meone share about something from the Bible or an aspect of faith (this cou
 ld be a young person or adult sharing)\, have a time of sung worship\, and
  time to discuss and pray. All are welcome. This event is run by WCCYM.
LOCATION:Cambourne Church
URL:https://www.achurchnearyou.com/church/7965/service-and-events/events/5
 44955/
END:VEVENT
BEGIN:VEVENT
SUMMARY:Thirst
DTSTART;TZID=Europe/London:20270314T180000
DTEND;TZID=Europe/London:20270314T200000
DTSTAMP:20260422T050525Z
UID:5449552027-03-14 18:00:00+00:00achurchnearyou
CATEGORIES:
DESCRIPTION:A monthly gathering for young people from year 7 to year 13. T
 hirst is our monthly youth service. The purpose is to encourage you in you
 r faith. It’s an opportunity to meet and enjoy a meal together\, hear so
 meone share about something from the Bible or an aspect of faith (this cou
 ld be a young person or adult sharing)\, have a time of sung worship\, and
  time to discuss and pray. All are welcome. This event is run by WCCYM.
LOCATION:Cambourne Church
URL:https://www.achurchnearyou.com/church/7965/service-and-events/events/5
 44955/
END:VEVENT
BEGIN:VEVENT
SUMMARY:Thirst
DTSTART;TZID=Europe/London:20270411T180000
DTEND;TZID=Europe/London:20270411T200000
DTSTAMP:20260422T050525Z
UID:5449552027-04-11 18:00:00+01:00achurchnearyou
CATEGORIES:
DESCRIPTION:A monthly gathering for young people from year 7 to year 13. T
 hirst is our monthly youth service. The purpose is to encourage you in you
 r faith. It’s an opportunity to meet and enjoy a meal together\, hear so
 meone share about something from the Bible or an aspect of faith (this cou
 ld be a young person or adult sharing)\, have a time of sung worship\, and
  time to discuss and pray. All are welcome. This event is run by WCCYM.
LOCATION:Cambourne Church
URL:https://www.achurchnearyou.com/church/7965/service-and-events/events/5
 44955/
END:VEVENT
END:VCALENDAR
