BEGIN:VCALENDAR
VERSION:2.0
PRODID:-//achurchnearyou.com//eventfeed//EN
CALSCALE:GREGORIAN
METHOD:PUBLISH
X-WR-TIMEZONE:UTC
BEGIN:VEVENT
SUMMARY:Online Gathering
DTSTART:20241229T100000Z
DTEND:20241229T110000Z
DTSTAMP:20260424T222929Z
UID:11131302024-12-29 10:00:00+00:00achurchnearyou
CATEGORIES:
DESCRIPTION:Join us online to worship and hear a message from the Bible.
GEO:-1.507552;53.38233
LOCATION:STC Sheffield (St Thomas Crookes)
URL:http://www.stcsheffield.org/christmas
END:VEVENT
END:VCALENDAR
