BEGIN:VCALENDAR
VERSION:2.0
PRODID:-//achurchnearyou.com//eventfeed//EN
CALSCALE:GREGORIAN
METHOD:PUBLISH
X-WR-TIMEZONE:UTC
BEGIN:VEVENT
SUMMARY:Morning Prayer
DTSTART;TZID=Europe/London:20241107T090000
DTEND;TZID=Europe/London:20241107T093000
DTSTAMP:20260424T025305Z
UID:11001242024-11-07 09:00:00+00:00achurchnearyou
CATEGORIES:
DESCRIPTION:You are welcome to join us for a thirty minute prayer reflecti
 on from 9.00am every Thursday morning.
GEO:-0.150454;51.256579
LOCATION:All Saints\, South Merstham
URL:https://www.achurchnearyou.com/church/797/service-and-events/events/11
 00124/
END:VEVENT
BEGIN:VEVENT
SUMMARY:Morning Prayer
DTSTART;TZID=Europe/London:20241114T090000
DTEND;TZID=Europe/London:20241114T093000
DTSTAMP:20260424T025305Z
UID:11001242024-11-14 09:00:00+00:00achurchnearyou
CATEGORIES:
DESCRIPTION:You are welcome to join us for a thirty minute prayer reflecti
 on from 9.00am every Thursday morning.
GEO:-0.150454;51.256579
LOCATION:All Saints\, South Merstham
URL:https://www.achurchnearyou.com/church/797/service-and-events/events/11
 00124/
END:VEVENT
BEGIN:VEVENT
SUMMARY:Morning Prayer
DTSTART;TZID=Europe/London:20241121T090000
DTEND;TZID=Europe/London:20241121T093000
DTSTAMP:20260424T025305Z
UID:11001242024-11-21 09:00:00+00:00achurchnearyou
CATEGORIES:
DESCRIPTION:You are welcome to join us for a thirty minute prayer reflecti
 on from 9.00am every Thursday morning.
GEO:-0.150454;51.256579
LOCATION:All Saints\, South Merstham
URL:https://www.achurchnearyou.com/church/797/service-and-events/events/11
 00124/
END:VEVENT
BEGIN:VEVENT
SUMMARY:Morning Prayer
DTSTART;TZID=Europe/London:20241128T090000
DTEND;TZID=Europe/London:20241128T093000
DTSTAMP:20260424T025305Z
UID:11001242024-11-28 09:00:00+00:00achurchnearyou
CATEGORIES:
DESCRIPTION:You are welcome to join us for a thirty minute prayer reflecti
 on from 9.00am every Thursday morning.
GEO:-0.150454;51.256579
LOCATION:All Saints\, South Merstham
URL:https://www.achurchnearyou.com/church/797/service-and-events/events/11
 00124/
END:VEVENT
BEGIN:VEVENT
SUMMARY:Morning Prayer
DTSTART;TZID=Europe/London:20241205T090000
DTEND;TZID=Europe/London:20241205T093000
DTSTAMP:20260424T025305Z
UID:11001242024-12-05 09:00:00+00:00achurchnearyou
CATEGORIES:
DESCRIPTION:You are welcome to join us for a thirty minute prayer reflecti
 on from 9.00am every Thursday morning.
GEO:-0.150454;51.256579
LOCATION:All Saints\, South Merstham
URL:https://www.achurchnearyou.com/church/797/service-and-events/events/11
 00124/
END:VEVENT
BEGIN:VEVENT
SUMMARY:Morning Prayer
DTSTART;TZID=Europe/London:20241212T090000
DTEND;TZID=Europe/London:20241212T093000
DTSTAMP:20260424T025305Z
UID:11001242024-12-12 09:00:00+00:00achurchnearyou
CATEGORIES:
DESCRIPTION:You are welcome to join us for a thirty minute prayer reflecti
 on from 9.00am every Thursday morning.
GEO:-0.150454;51.256579
LOCATION:All Saints\, South Merstham
URL:https://www.achurchnearyou.com/church/797/service-and-events/events/11
 00124/
END:VEVENT
BEGIN:VEVENT
SUMMARY:Morning Prayer
DTSTART;TZID=Europe/London:20241219T090000
DTEND;TZID=Europe/London:20241219T093000
DTSTAMP:20260424T025305Z
UID:11001242024-12-19 09:00:00+00:00achurchnearyou
CATEGORIES:
DESCRIPTION:You are welcome to join us for a thirty minute prayer reflecti
 on from 9.00am every Thursday morning.
GEO:-0.150454;51.256579
LOCATION:All Saints\, South Merstham
URL:https://www.achurchnearyou.com/church/797/service-and-events/events/11
 00124/
END:VEVENT
BEGIN:VEVENT
SUMMARY:Morning Prayer
DTSTART;TZID=Europe/London:20241226T090000
DTEND;TZID=Europe/London:20241226T093000
DTSTAMP:20260424T025305Z
UID:11001242024-12-26 09:00:00+00:00achurchnearyou
CATEGORIES:
DESCRIPTION:You are welcome to join us for a thirty minute prayer reflecti
 on from 9.00am every Thursday morning.
GEO:-0.150454;51.256579
LOCATION:All Saints\, South Merstham
URL:https://www.achurchnearyou.com/church/797/service-and-events/events/11
 00124/
END:VEVENT
BEGIN:VEVENT
SUMMARY:Morning Prayer
DTSTART;TZID=Europe/London:20250102T090000
DTEND;TZID=Europe/London:20250102T093000
DTSTAMP:20260424T025305Z
UID:11001242025-01-02 09:00:00+00:00achurchnearyou
CATEGORIES:
DESCRIPTION:You are welcome to join us for a thirty minute prayer reflecti
 on from 9.00am every Thursday morning.
GEO:-0.150454;51.256579
LOCATION:All Saints\, South Merstham
URL:https://www.achurchnearyou.com/church/797/service-and-events/events/11
 00124/
END:VEVENT
BEGIN:VEVENT
SUMMARY:Morning Prayer
DTSTART;TZID=Europe/London:20250109T090000
DTEND;TZID=Europe/London:20250109T093000
DTSTAMP:20260424T025305Z
UID:11001242025-01-09 09:00:00+00:00achurchnearyou
CATEGORIES:
DESCRIPTION:You are welcome to join us for a thirty minute prayer reflecti
 on from 9.00am every Thursday morning.
GEO:-0.150454;51.256579
LOCATION:All Saints\, South Merstham
URL:https://www.achurchnearyou.com/church/797/service-and-events/events/11
 00124/
END:VEVENT
BEGIN:VEVENT
SUMMARY:Morning Prayer
DTSTART;TZID=Europe/London:20250116T090000
DTEND;TZID=Europe/London:20250116T093000
DTSTAMP:20260424T025305Z
UID:11001242025-01-16 09:00:00+00:00achurchnearyou
CATEGORIES:
DESCRIPTION:You are welcome to join us for a thirty minute prayer reflecti
 on from 9.00am every Thursday morning.
GEO:-0.150454;51.256579
LOCATION:All Saints\, South Merstham
URL:https://www.achurchnearyou.com/church/797/service-and-events/events/11
 00124/
END:VEVENT
BEGIN:VEVENT
SUMMARY:Morning Prayer
DTSTART;TZID=Europe/London:20250123T090000
DTEND;TZID=Europe/London:20250123T093000
DTSTAMP:20260424T025305Z
UID:11001242025-01-23 09:00:00+00:00achurchnearyou
CATEGORIES:
DESCRIPTION:You are welcome to join us for a thirty minute prayer reflecti
 on from 9.00am every Thursday morning.
GEO:-0.150454;51.256579
LOCATION:All Saints\, South Merstham
URL:https://www.achurchnearyou.com/church/797/service-and-events/events/11
 00124/
END:VEVENT
BEGIN:VEVENT
SUMMARY:Morning Prayer
DTSTART;TZID=Europe/London:20250130T090000
DTEND;TZID=Europe/London:20250130T093000
DTSTAMP:20260424T025305Z
UID:11001242025-01-30 09:00:00+00:00achurchnearyou
CATEGORIES:
DESCRIPTION:You are welcome to join us for a thirty minute prayer reflecti
 on from 9.00am every Thursday morning.
GEO:-0.150454;51.256579
LOCATION:All Saints\, South Merstham
URL:https://www.achurchnearyou.com/church/797/service-and-events/events/11
 00124/
END:VEVENT
BEGIN:VEVENT
SUMMARY:Morning Prayer
DTSTART;TZID=Europe/London:20250206T090000
DTEND;TZID=Europe/London:20250206T093000
DTSTAMP:20260424T025305Z
UID:11001242025-02-06 09:00:00+00:00achurchnearyou
CATEGORIES:
DESCRIPTION:You are welcome to join us for a thirty minute prayer reflecti
 on from 9.00am every Thursday morning.
GEO:-0.150454;51.256579
LOCATION:All Saints\, South Merstham
URL:https://www.achurchnearyou.com/church/797/service-and-events/events/11
 00124/
END:VEVENT
BEGIN:VEVENT
SUMMARY:Morning Prayer
DTSTART;TZID=Europe/London:20250213T090000
DTEND;TZID=Europe/London:20250213T093000
DTSTAMP:20260424T025305Z
UID:11001242025-02-13 09:00:00+00:00achurchnearyou
CATEGORIES:
DESCRIPTION:You are welcome to join us for a thirty minute prayer reflecti
 on from 9.00am every Thursday morning.
GEO:-0.150454;51.256579
LOCATION:All Saints\, South Merstham
URL:https://www.achurchnearyou.com/church/797/service-and-events/events/11
 00124/
END:VEVENT
BEGIN:VEVENT
SUMMARY:Morning Prayer
DTSTART;TZID=Europe/London:20250220T090000
DTEND;TZID=Europe/London:20250220T093000
DTSTAMP:20260424T025305Z
UID:11001242025-02-20 09:00:00+00:00achurchnearyou
CATEGORIES:
DESCRIPTION:You are welcome to join us for a thirty minute prayer reflecti
 on from 9.00am every Thursday morning.
GEO:-0.150454;51.256579
LOCATION:All Saints\, South Merstham
URL:https://www.achurchnearyou.com/church/797/service-and-events/events/11
 00124/
END:VEVENT
BEGIN:VEVENT
SUMMARY:Morning Prayer
DTSTART;TZID=Europe/London:20250227T090000
DTEND;TZID=Europe/London:20250227T093000
DTSTAMP:20260424T025305Z
UID:11001242025-02-27 09:00:00+00:00achurchnearyou
CATEGORIES:
DESCRIPTION:You are welcome to join us for a thirty minute prayer reflecti
 on from 9.00am every Thursday morning.
GEO:-0.150454;51.256579
LOCATION:All Saints\, South Merstham
URL:https://www.achurchnearyou.com/church/797/service-and-events/events/11
 00124/
END:VEVENT
BEGIN:VEVENT
SUMMARY:Morning Prayer
DTSTART;TZID=Europe/London:20250306T090000
DTEND;TZID=Europe/London:20250306T093000
DTSTAMP:20260424T025305Z
UID:11001242025-03-06 09:00:00+00:00achurchnearyou
CATEGORIES:
DESCRIPTION:You are welcome to join us for a thirty minute prayer reflecti
 on from 9.00am every Thursday morning.
GEO:-0.150454;51.256579
LOCATION:All Saints\, South Merstham
URL:https://www.achurchnearyou.com/church/797/service-and-events/events/11
 00124/
END:VEVENT
BEGIN:VEVENT
SUMMARY:Morning Prayer
DTSTART;TZID=Europe/London:20250313T090000
DTEND;TZID=Europe/London:20250313T093000
DTSTAMP:20260424T025305Z
UID:11001242025-03-13 09:00:00+00:00achurchnearyou
CATEGORIES:
DESCRIPTION:You are welcome to join us for a thirty minute prayer reflecti
 on from 9.00am every Thursday morning.
GEO:-0.150454;51.256579
LOCATION:All Saints\, South Merstham
URL:https://www.achurchnearyou.com/church/797/service-and-events/events/11
 00124/
END:VEVENT
BEGIN:VEVENT
SUMMARY:Morning Prayer
DTSTART;TZID=Europe/London:20250320T090000
DTEND;TZID=Europe/London:20250320T093000
DTSTAMP:20260424T025305Z
UID:11001242025-03-20 09:00:00+00:00achurchnearyou
CATEGORIES:
DESCRIPTION:You are welcome to join us for a thirty minute prayer reflecti
 on from 9.00am every Thursday morning.
GEO:-0.150454;51.256579
LOCATION:All Saints\, South Merstham
URL:https://www.achurchnearyou.com/church/797/service-and-events/events/11
 00124/
END:VEVENT
BEGIN:VEVENT
SUMMARY:Morning Prayer
DTSTART;TZID=Europe/London:20250327T090000
DTEND;TZID=Europe/London:20250327T093000
DTSTAMP:20260424T025305Z
UID:11001242025-03-27 09:00:00+00:00achurchnearyou
CATEGORIES:
DESCRIPTION:You are welcome to join us for a thirty minute prayer reflecti
 on from 9.00am every Thursday morning.
GEO:-0.150454;51.256579
LOCATION:All Saints\, South Merstham
URL:https://www.achurchnearyou.com/church/797/service-and-events/events/11
 00124/
END:VEVENT
BEGIN:VEVENT
SUMMARY:Morning Prayer
DTSTART;TZID=Europe/London:20250403T090000
DTEND;TZID=Europe/London:20250403T093000
DTSTAMP:20260424T025305Z
UID:11001242025-04-03 09:00:00+01:00achurchnearyou
CATEGORIES:
DESCRIPTION:You are welcome to join us for a thirty minute prayer reflecti
 on from 9.00am every Thursday morning.
GEO:-0.150454;51.256579
LOCATION:All Saints\, South Merstham
URL:https://www.achurchnearyou.com/church/797/service-and-events/events/11
 00124/
END:VEVENT
BEGIN:VEVENT
SUMMARY:Morning Prayer
DTSTART;TZID=Europe/London:20250410T090000
DTEND;TZID=Europe/London:20250410T093000
DTSTAMP:20260424T025305Z
UID:11001242025-04-10 09:00:00+01:00achurchnearyou
CATEGORIES:
DESCRIPTION:You are welcome to join us for a thirty minute prayer reflecti
 on from 9.00am every Thursday morning.
GEO:-0.150454;51.256579
LOCATION:All Saints\, South Merstham
URL:https://www.achurchnearyou.com/church/797/service-and-events/events/11
 00124/
END:VEVENT
BEGIN:VEVENT
SUMMARY:Morning Prayer
DTSTART;TZID=Europe/London:20250417T090000
DTEND;TZID=Europe/London:20250417T093000
DTSTAMP:20260424T025305Z
UID:11001242025-04-17 09:00:00+01:00achurchnearyou
CATEGORIES:
DESCRIPTION:You are welcome to join us for a thirty minute prayer reflecti
 on from 9.00am every Thursday morning.
GEO:-0.150454;51.256579
LOCATION:All Saints\, South Merstham
URL:https://www.achurchnearyou.com/church/797/service-and-events/events/11
 00124/
END:VEVENT
BEGIN:VEVENT
SUMMARY:Morning Prayer
DTSTART;TZID=Europe/London:20250424T090000
DTEND;TZID=Europe/London:20250424T093000
DTSTAMP:20260424T025305Z
UID:11001242025-04-24 09:00:00+01:00achurchnearyou
CATEGORIES:
DESCRIPTION:You are welcome to join us for a thirty minute prayer reflecti
 on from 9.00am every Thursday morning.
GEO:-0.150454;51.256579
LOCATION:All Saints\, South Merstham
URL:https://www.achurchnearyou.com/church/797/service-and-events/events/11
 00124/
END:VEVENT
BEGIN:VEVENT
SUMMARY:Morning Prayer
DTSTART;TZID=Europe/London:20250501T090000
DTEND;TZID=Europe/London:20250501T093000
DTSTAMP:20260424T025305Z
UID:11001242025-05-01 09:00:00+01:00achurchnearyou
CATEGORIES:
DESCRIPTION:You are welcome to join us for a thirty minute prayer reflecti
 on from 9.00am every Thursday morning.
GEO:-0.150454;51.256579
LOCATION:All Saints\, South Merstham
URL:https://www.achurchnearyou.com/church/797/service-and-events/events/11
 00124/
END:VEVENT
BEGIN:VEVENT
SUMMARY:Morning Prayer
DTSTART;TZID=Europe/London:20250508T090000
DTEND;TZID=Europe/London:20250508T093000
DTSTAMP:20260424T025305Z
UID:11001242025-05-08 09:00:00+01:00achurchnearyou
CATEGORIES:
DESCRIPTION:You are welcome to join us for a thirty minute prayer reflecti
 on from 9.00am every Thursday morning.
GEO:-0.150454;51.256579
LOCATION:All Saints\, South Merstham
URL:https://www.achurchnearyou.com/church/797/service-and-events/events/11
 00124/
END:VEVENT
BEGIN:VEVENT
SUMMARY:Morning Prayer
DTSTART;TZID=Europe/London:20250515T090000
DTEND;TZID=Europe/London:20250515T093000
DTSTAMP:20260424T025305Z
UID:11001242025-05-15 09:00:00+01:00achurchnearyou
CATEGORIES:
DESCRIPTION:You are welcome to join us for a thirty minute prayer reflecti
 on from 9.00am every Thursday morning.
GEO:-0.150454;51.256579
LOCATION:All Saints\, South Merstham
URL:https://www.achurchnearyou.com/church/797/service-and-events/events/11
 00124/
END:VEVENT
BEGIN:VEVENT
SUMMARY:Morning Prayer
DTSTART;TZID=Europe/London:20250522T090000
DTEND;TZID=Europe/London:20250522T093000
DTSTAMP:20260424T025305Z
UID:11001242025-05-22 09:00:00+01:00achurchnearyou
CATEGORIES:
DESCRIPTION:You are welcome to join us for a thirty minute prayer reflecti
 on from 9.00am every Thursday morning.
GEO:-0.150454;51.256579
LOCATION:All Saints\, South Merstham
URL:https://www.achurchnearyou.com/church/797/service-and-events/events/11
 00124/
END:VEVENT
BEGIN:VEVENT
SUMMARY:Morning Prayer
DTSTART;TZID=Europe/London:20250529T090000
DTEND;TZID=Europe/London:20250529T093000
DTSTAMP:20260424T025305Z
UID:11001242025-05-29 09:00:00+01:00achurchnearyou
CATEGORIES:
DESCRIPTION:You are welcome to join us for a thirty minute prayer reflecti
 on from 9.00am every Thursday morning.
GEO:-0.150454;51.256579
LOCATION:All Saints\, South Merstham
URL:https://www.achurchnearyou.com/church/797/service-and-events/events/11
 00124/
END:VEVENT
BEGIN:VEVENT
SUMMARY:Morning Prayer
DTSTART;TZID=Europe/London:20250605T090000
DTEND;TZID=Europe/London:20250605T093000
DTSTAMP:20260424T025305Z
UID:11001242025-06-05 09:00:00+01:00achurchnearyou
CATEGORIES:
DESCRIPTION:You are welcome to join us for a thirty minute prayer reflecti
 on from 9.00am every Thursday morning.
GEO:-0.150454;51.256579
LOCATION:All Saints\, South Merstham
URL:https://www.achurchnearyou.com/church/797/service-and-events/events/11
 00124/
END:VEVENT
BEGIN:VEVENT
SUMMARY:Morning Prayer
DTSTART;TZID=Europe/London:20250612T090000
DTEND;TZID=Europe/London:20250612T093000
DTSTAMP:20260424T025305Z
UID:11001242025-06-12 09:00:00+01:00achurchnearyou
CATEGORIES:
DESCRIPTION:You are welcome to join us for a thirty minute prayer reflecti
 on from 9.00am every Thursday morning.
GEO:-0.150454;51.256579
LOCATION:All Saints\, South Merstham
URL:https://www.achurchnearyou.com/church/797/service-and-events/events/11
 00124/
END:VEVENT
BEGIN:VEVENT
SUMMARY:Morning Prayer
DTSTART;TZID=Europe/London:20250619T090000
DTEND;TZID=Europe/London:20250619T093000
DTSTAMP:20260424T025305Z
UID:11001242025-06-19 09:00:00+01:00achurchnearyou
CATEGORIES:
DESCRIPTION:You are welcome to join us for a thirty minute prayer reflecti
 on from 9.00am every Thursday morning.
GEO:-0.150454;51.256579
LOCATION:All Saints\, South Merstham
URL:https://www.achurchnearyou.com/church/797/service-and-events/events/11
 00124/
END:VEVENT
BEGIN:VEVENT
SUMMARY:Morning Prayer
DTSTART;TZID=Europe/London:20250626T090000
DTEND;TZID=Europe/London:20250626T093000
DTSTAMP:20260424T025305Z
UID:11001242025-06-26 09:00:00+01:00achurchnearyou
CATEGORIES:
DESCRIPTION:You are welcome to join us for a thirty minute prayer reflecti
 on from 9.00am every Thursday morning.
GEO:-0.150454;51.256579
LOCATION:All Saints\, South Merstham
URL:https://www.achurchnearyou.com/church/797/service-and-events/events/11
 00124/
END:VEVENT
BEGIN:VEVENT
SUMMARY:Morning Prayer
DTSTART;TZID=Europe/London:20250703T090000
DTEND;TZID=Europe/London:20250703T093000
DTSTAMP:20260424T025305Z
UID:11001242025-07-03 09:00:00+01:00achurchnearyou
CATEGORIES:
DESCRIPTION:You are welcome to join us for a thirty minute prayer reflecti
 on from 9.00am every Thursday morning.
GEO:-0.150454;51.256579
LOCATION:All Saints\, South Merstham
URL:https://www.achurchnearyou.com/church/797/service-and-events/events/11
 00124/
END:VEVENT
BEGIN:VEVENT
SUMMARY:Morning Prayer
DTSTART;TZID=Europe/London:20250710T090000
DTEND;TZID=Europe/London:20250710T093000
DTSTAMP:20260424T025305Z
UID:11001242025-07-10 09:00:00+01:00achurchnearyou
CATEGORIES:
DESCRIPTION:You are welcome to join us for a thirty minute prayer reflecti
 on from 9.00am every Thursday morning.
GEO:-0.150454;51.256579
LOCATION:All Saints\, South Merstham
URL:https://www.achurchnearyou.com/church/797/service-and-events/events/11
 00124/
END:VEVENT
BEGIN:VEVENT
SUMMARY:Morning Prayer
DTSTART;TZID=Europe/London:20250717T090000
DTEND;TZID=Europe/London:20250717T093000
DTSTAMP:20260424T025305Z
UID:11001242025-07-17 09:00:00+01:00achurchnearyou
CATEGORIES:
DESCRIPTION:You are welcome to join us for a thirty minute prayer reflecti
 on from 9.00am every Thursday morning.
GEO:-0.150454;51.256579
LOCATION:All Saints\, South Merstham
URL:https://www.achurchnearyou.com/church/797/service-and-events/events/11
 00124/
END:VEVENT
BEGIN:VEVENT
SUMMARY:Morning Prayer
DTSTART;TZID=Europe/London:20250724T090000
DTEND;TZID=Europe/London:20250724T093000
DTSTAMP:20260424T025305Z
UID:11001242025-07-24 09:00:00+01:00achurchnearyou
CATEGORIES:
DESCRIPTION:You are welcome to join us for a thirty minute prayer reflecti
 on from 9.00am every Thursday morning.
GEO:-0.150454;51.256579
LOCATION:All Saints\, South Merstham
URL:https://www.achurchnearyou.com/church/797/service-and-events/events/11
 00124/
END:VEVENT
BEGIN:VEVENT
SUMMARY:Morning Prayer
DTSTART;TZID=Europe/London:20250731T090000
DTEND;TZID=Europe/London:20250731T093000
DTSTAMP:20260424T025305Z
UID:11001242025-07-31 09:00:00+01:00achurchnearyou
CATEGORIES:
DESCRIPTION:You are welcome to join us for a thirty minute prayer reflecti
 on from 9.00am every Thursday morning.
GEO:-0.150454;51.256579
LOCATION:All Saints\, South Merstham
URL:https://www.achurchnearyou.com/church/797/service-and-events/events/11
 00124/
END:VEVENT
BEGIN:VEVENT
SUMMARY:Morning Prayer
DTSTART;TZID=Europe/London:20250807T090000
DTEND;TZID=Europe/London:20250807T093000
DTSTAMP:20260424T025305Z
UID:11001242025-08-07 09:00:00+01:00achurchnearyou
CATEGORIES:
DESCRIPTION:You are welcome to join us for a thirty minute prayer reflecti
 on from 9.00am every Thursday morning.
GEO:-0.150454;51.256579
LOCATION:All Saints\, South Merstham
URL:https://www.achurchnearyou.com/church/797/service-and-events/events/11
 00124/
END:VEVENT
BEGIN:VEVENT
SUMMARY:Morning Prayer
DTSTART;TZID=Europe/London:20250814T090000
DTEND;TZID=Europe/London:20250814T093000
DTSTAMP:20260424T025305Z
UID:11001242025-08-14 09:00:00+01:00achurchnearyou
CATEGORIES:
DESCRIPTION:You are welcome to join us for a thirty minute prayer reflecti
 on from 9.00am every Thursday morning.
GEO:-0.150454;51.256579
LOCATION:All Saints\, South Merstham
URL:https://www.achurchnearyou.com/church/797/service-and-events/events/11
 00124/
END:VEVENT
BEGIN:VEVENT
SUMMARY:Morning Prayer
DTSTART;TZID=Europe/London:20250821T090000
DTEND;TZID=Europe/London:20250821T093000
DTSTAMP:20260424T025305Z
UID:11001242025-08-21 09:00:00+01:00achurchnearyou
CATEGORIES:
DESCRIPTION:You are welcome to join us for a thirty minute prayer reflecti
 on from 9.00am every Thursday morning.
GEO:-0.150454;51.256579
LOCATION:All Saints\, South Merstham
URL:https://www.achurchnearyou.com/church/797/service-and-events/events/11
 00124/
END:VEVENT
BEGIN:VEVENT
SUMMARY:Morning Prayer
DTSTART;TZID=Europe/London:20250828T090000
DTEND;TZID=Europe/London:20250828T093000
DTSTAMP:20260424T025305Z
UID:11001242025-08-28 09:00:00+01:00achurchnearyou
CATEGORIES:
DESCRIPTION:You are welcome to join us for a thirty minute prayer reflecti
 on from 9.00am every Thursday morning.
GEO:-0.150454;51.256579
LOCATION:All Saints\, South Merstham
URL:https://www.achurchnearyou.com/church/797/service-and-events/events/11
 00124/
END:VEVENT
BEGIN:VEVENT
SUMMARY:Morning Prayer
DTSTART;TZID=Europe/London:20250904T090000
DTEND;TZID=Europe/London:20250904T093000
DTSTAMP:20260424T025305Z
UID:11001242025-09-04 09:00:00+01:00achurchnearyou
CATEGORIES:
DESCRIPTION:You are welcome to join us for a thirty minute prayer reflecti
 on from 9.00am every Thursday morning.
GEO:-0.150454;51.256579
LOCATION:All Saints\, South Merstham
URL:https://www.achurchnearyou.com/church/797/service-and-events/events/11
 00124/
END:VEVENT
BEGIN:VEVENT
SUMMARY:Morning Prayer
DTSTART;TZID=Europe/London:20250911T090000
DTEND;TZID=Europe/London:20250911T093000
DTSTAMP:20260424T025305Z
UID:11001242025-09-11 09:00:00+01:00achurchnearyou
CATEGORIES:
DESCRIPTION:You are welcome to join us for a thirty minute prayer reflecti
 on from 9.00am every Thursday morning.
GEO:-0.150454;51.256579
LOCATION:All Saints\, South Merstham
URL:https://www.achurchnearyou.com/church/797/service-and-events/events/11
 00124/
END:VEVENT
BEGIN:VEVENT
SUMMARY:Morning Prayer
DTSTART;TZID=Europe/London:20250918T090000
DTEND;TZID=Europe/London:20250918T093000
DTSTAMP:20260424T025305Z
UID:11001242025-09-18 09:00:00+01:00achurchnearyou
CATEGORIES:
DESCRIPTION:You are welcome to join us for a thirty minute prayer reflecti
 on from 9.00am every Thursday morning.
GEO:-0.150454;51.256579
LOCATION:All Saints\, South Merstham
URL:https://www.achurchnearyou.com/church/797/service-and-events/events/11
 00124/
END:VEVENT
BEGIN:VEVENT
SUMMARY:Morning Prayer
DTSTART;TZID=Europe/London:20250925T090000
DTEND;TZID=Europe/London:20250925T093000
DTSTAMP:20260424T025305Z
UID:11001242025-09-25 09:00:00+01:00achurchnearyou
CATEGORIES:
DESCRIPTION:You are welcome to join us for a thirty minute prayer reflecti
 on from 9.00am every Thursday morning.
GEO:-0.150454;51.256579
LOCATION:All Saints\, South Merstham
URL:https://www.achurchnearyou.com/church/797/service-and-events/events/11
 00124/
END:VEVENT
BEGIN:VEVENT
SUMMARY:Morning Prayer
DTSTART;TZID=Europe/London:20251002T090000
DTEND;TZID=Europe/London:20251002T093000
DTSTAMP:20260424T025305Z
UID:11001242025-10-02 09:00:00+01:00achurchnearyou
CATEGORIES:
DESCRIPTION:You are welcome to join us for a thirty minute prayer reflecti
 on from 9.00am every Thursday morning.
GEO:-0.150454;51.256579
LOCATION:All Saints\, South Merstham
URL:https://www.achurchnearyou.com/church/797/service-and-events/events/11
 00124/
END:VEVENT
BEGIN:VEVENT
SUMMARY:Morning Prayer
DTSTART;TZID=Europe/London:20251009T090000
DTEND;TZID=Europe/London:20251009T093000
DTSTAMP:20260424T025305Z
UID:11001242025-10-09 09:00:00+01:00achurchnearyou
CATEGORIES:
DESCRIPTION:You are welcome to join us for a thirty minute prayer reflecti
 on from 9.00am every Thursday morning.
GEO:-0.150454;51.256579
LOCATION:All Saints\, South Merstham
URL:https://www.achurchnearyou.com/church/797/service-and-events/events/11
 00124/
END:VEVENT
BEGIN:VEVENT
SUMMARY:Morning Prayer
DTSTART;TZID=Europe/London:20251016T090000
DTEND;TZID=Europe/London:20251016T093000
DTSTAMP:20260424T025305Z
UID:11001242025-10-16 09:00:00+01:00achurchnearyou
CATEGORIES:
DESCRIPTION:You are welcome to join us for a thirty minute prayer reflecti
 on from 9.00am every Thursday morning.
GEO:-0.150454;51.256579
LOCATION:All Saints\, South Merstham
URL:https://www.achurchnearyou.com/church/797/service-and-events/events/11
 00124/
END:VEVENT
BEGIN:VEVENT
SUMMARY:Morning Prayer
DTSTART;TZID=Europe/London:20251023T090000
DTEND;TZID=Europe/London:20251023T093000
DTSTAMP:20260424T025305Z
UID:11001242025-10-23 09:00:00+01:00achurchnearyou
CATEGORIES:
DESCRIPTION:You are welcome to join us for a thirty minute prayer reflecti
 on from 9.00am every Thursday morning.
GEO:-0.150454;51.256579
LOCATION:All Saints\, South Merstham
URL:https://www.achurchnearyou.com/church/797/service-and-events/events/11
 00124/
END:VEVENT
BEGIN:VEVENT
SUMMARY:Morning Prayer
DTSTART;TZID=Europe/London:20251030T090000
DTEND;TZID=Europe/London:20251030T093000
DTSTAMP:20260424T025305Z
UID:11001242025-10-30 09:00:00+00:00achurchnearyou
CATEGORIES:
DESCRIPTION:You are welcome to join us for a thirty minute prayer reflecti
 on from 9.00am every Thursday morning.
GEO:-0.150454;51.256579
LOCATION:All Saints\, South Merstham
URL:https://www.achurchnearyou.com/church/797/service-and-events/events/11
 00124/
END:VEVENT
BEGIN:VEVENT
SUMMARY:Morning Prayer
DTSTART;TZID=Europe/London:20251106T090000
DTEND;TZID=Europe/London:20251106T093000
DTSTAMP:20260424T025305Z
UID:11001242025-11-06 09:00:00+00:00achurchnearyou
CATEGORIES:
DESCRIPTION:You are welcome to join us for a thirty minute prayer reflecti
 on from 9.00am every Thursday morning.
GEO:-0.150454;51.256579
LOCATION:All Saints\, South Merstham
URL:https://www.achurchnearyou.com/church/797/service-and-events/events/11
 00124/
END:VEVENT
BEGIN:VEVENT
SUMMARY:Morning Prayer
DTSTART;TZID=Europe/London:20251113T090000
DTEND;TZID=Europe/London:20251113T093000
DTSTAMP:20260424T025305Z
UID:11001242025-11-13 09:00:00+00:00achurchnearyou
CATEGORIES:
DESCRIPTION:You are welcome to join us for a thirty minute prayer reflecti
 on from 9.00am every Thursday morning.
GEO:-0.150454;51.256579
LOCATION:All Saints\, South Merstham
URL:https://www.achurchnearyou.com/church/797/service-and-events/events/11
 00124/
END:VEVENT
BEGIN:VEVENT
SUMMARY:Morning Prayer
DTSTART;TZID=Europe/London:20251120T090000
DTEND;TZID=Europe/London:20251120T093000
DTSTAMP:20260424T025305Z
UID:11001242025-11-20 09:00:00+00:00achurchnearyou
CATEGORIES:
DESCRIPTION:You are welcome to join us for a thirty minute prayer reflecti
 on from 9.00am every Thursday morning.
GEO:-0.150454;51.256579
LOCATION:All Saints\, South Merstham
URL:https://www.achurchnearyou.com/church/797/service-and-events/events/11
 00124/
END:VEVENT
BEGIN:VEVENT
SUMMARY:Morning Prayer
DTSTART;TZID=Europe/London:20251127T090000
DTEND;TZID=Europe/London:20251127T093000
DTSTAMP:20260424T025305Z
UID:11001242025-11-27 09:00:00+00:00achurchnearyou
CATEGORIES:
DESCRIPTION:You are welcome to join us for a thirty minute prayer reflecti
 on from 9.00am every Thursday morning.
GEO:-0.150454;51.256579
LOCATION:All Saints\, South Merstham
URL:https://www.achurchnearyou.com/church/797/service-and-events/events/11
 00124/
END:VEVENT
BEGIN:VEVENT
SUMMARY:Morning Prayer
DTSTART;TZID=Europe/London:20251204T090000
DTEND;TZID=Europe/London:20251204T093000
DTSTAMP:20260424T025305Z
UID:11001242025-12-04 09:00:00+00:00achurchnearyou
CATEGORIES:
DESCRIPTION:You are welcome to join us for a thirty minute prayer reflecti
 on from 9.00am every Thursday morning.
GEO:-0.150454;51.256579
LOCATION:All Saints\, South Merstham
URL:https://www.achurchnearyou.com/church/797/service-and-events/events/11
 00124/
END:VEVENT
BEGIN:VEVENT
SUMMARY:Morning Prayer
DTSTART;TZID=Europe/London:20251211T090000
DTEND;TZID=Europe/London:20251211T093000
DTSTAMP:20260424T025305Z
UID:11001242025-12-11 09:00:00+00:00achurchnearyou
CATEGORIES:
DESCRIPTION:You are welcome to join us for a thirty minute prayer reflecti
 on from 9.00am every Thursday morning.
GEO:-0.150454;51.256579
LOCATION:All Saints\, South Merstham
URL:https://www.achurchnearyou.com/church/797/service-and-events/events/11
 00124/
END:VEVENT
BEGIN:VEVENT
SUMMARY:Morning Prayer
DTSTART;TZID=Europe/London:20251218T090000
DTEND;TZID=Europe/London:20251218T093000
DTSTAMP:20260424T025305Z
UID:11001242025-12-18 09:00:00+00:00achurchnearyou
CATEGORIES:
DESCRIPTION:You are welcome to join us for a thirty minute prayer reflecti
 on from 9.00am every Thursday morning.
GEO:-0.150454;51.256579
LOCATION:All Saints\, South Merstham
URL:https://www.achurchnearyou.com/church/797/service-and-events/events/11
 00124/
END:VEVENT
END:VCALENDAR
