BEGIN:VCALENDAR
VERSION:2.0
PRODID:-//achurchnearyou.com//eventfeed//EN
CALSCALE:GREGORIAN
METHOD:PUBLISH
X-WR-TIMEZONE:UTC
BEGIN:VEVENT
SUMMARY:Service of prayer for VE Day
DTSTART:20250508T170000Z
DTEND:20250508T173000Z
DTSTAMP:20260420T055055Z
UID:11976252025-05-08 17:00:00+00:00achurchnearyou
CATEGORIES:
DESCRIPTION:A short service of prayer to commemorate the 80th anniversary 
 of VE Day\, followed by ringing of the church bell at 6.30 p.m.
GEO:-2.256416;55.143466
LOCATION:St Cuthbert's\, Bellingham
URL:https://www.achurchnearyou.com/church/7974/service-and-events/events/1
 197625/
END:VEVENT
END:VCALENDAR
