BEGIN:VCALENDAR
VERSION:2.0
PRODID:-//achurchnearyou.com//eventfeed//EN
CALSCALE:GREGORIAN
METHOD:PUBLISH
X-WR-TIMEZONE:UTC
BEGIN:VEVENT
SUMMARY:Maundy Thursday Holy Communion
DTSTART:20250417T180000Z
DTEND:20250417T190000Z
DTSTAMP:20260424T163246Z
UID:11610362025-04-17 18:00:00+00:00achurchnearyou
CATEGORIES:
DESCRIPTION:Tenebrae service for Maundy Thursday with Holy Communion
GEO:-1.6179;53.665522
LOCATION:Thornhill Parish Church of St Michael & All Angels
URL:https://www.achurchnearyou.com/church/7989/service-and-events/events/1
 161036/
END:VEVENT
END:VCALENDAR
