BEGIN:VCALENDAR
VERSION:2.0
PRODID:-//achurchnearyou.com//eventfeed//EN
CALSCALE:GREGORIAN
METHOD:PUBLISH
X-WR-TIMEZONE:UTC
BEGIN:VEVENT
SUMMARY:Christingle Service
DTSTART:20251130T100000Z
DTEND:20251130T110000Z
DTSTAMP:20260423T205553Z
UID:12409862025-11-30 10:00:00+00:00achurchnearyou
CATEGORIES:
DESCRIPTION:Join us for our annual Christingle service which will be follo
 wed by a cake sale\, raising funds for The Children's Society
GEO:-1.6179;53.665522
LOCATION:Thornhill Parish Church of St Michael & All Angels
URL:https://www.achurchnearyou.com/church/7989/service-and-events/events/1
 240986/
END:VEVENT
END:VCALENDAR
