BEGIN:VCALENDAR
VERSION:2.0
PRODID:-//achurchnearyou.com//eventfeed//EN
CALSCALE:GREGORIAN
METHOD:PUBLISH
X-WR-TIMEZONE:UTC
BEGIN:VEVENT
SUMMARY:Christmas Eve Service
DTSTART:20251224T203000Z
DTEND:20251224T213000Z
DTSTAMP:20260423T152416Z
UID:12409902025-12-24 20:30:00+00:00achurchnearyou
CATEGORIES:
DESCRIPTION:Join us for Christmas Eve worship. With the time difference\, 
 we will be celebrating Christmas at the same time as Midnight in Bethlehem
 .
GEO:-1.6179;53.665522
LOCATION:Thornhill Parish Church of St Michael & All Angels
URL:https://www.achurchnearyou.com/church/7989/service-and-events/events/1
 240990/
END:VEVENT
END:VCALENDAR
