BEGIN:VCALENDAR
VERSION:2.0
PRODID:-//achurchnearyou.com//eventfeed//EN
CALSCALE:GREGORIAN
METHOD:PUBLISH
X-WR-TIMEZONE:UTC
BEGIN:VEVENT
SUMMARY:Ash Wednesday Service
DTSTART:20250305T073000Z
DTEND:20250305T083000Z
DTSTAMP:20260424T145112Z
UID:11628562025-03-05 07:30:00+00:00achurchnearyou
CATEGORIES:
DESCRIPTION:A contemplative service to begin Lent - a time of self-examina
 tion and repentance. We will offer the opportunity to receive ashes on you
 r forehead – a sign of repentance that has been practiced by the church 
 around the world for hundreds of years. This will be a service of Holy Com
 munion.
GEO:-0.178098;51.493301
LOCATION:St Augustine's Queen's Gate
URL:https://www.achurchnearyou.com/church/7995/service-and-events/events/1
 162856/
END:VEVENT
END:VCALENDAR
