BEGIN:VCALENDAR
VERSION:2.0
PRODID:-//achurchnearyou.com//eventfeed//EN
CALSCALE:GREGORIAN
METHOD:PUBLISH
X-WR-TIMEZONE:UTC
BEGIN:VEVENT
SUMMARY:Parish Eucharist for Easter Day
DTSTART:20260405T090000Z
DTEND:20260405T100000Z
DTSTAMP:20260422T010646Z
UID:10514002026-04-05 09:00:00+00:00achurchnearyou
CATEGORIES:
DESCRIPTION:The angel said to the women\, ‘Do not be afraid\; I know tha
 t you are looking for Jesus who was crucified. He is not here\; for he has
  been raised\, as he said.’\n\nCelebrate the Resurrection of the Lord Je
 sus Christ at our Parish Eucharist.\n\nFollowed by a fizz reception with f
 inger food.
GEO:-0.168313;51.515526
LOCATION:St John's Hyde Park
URL:https://www.achurchnearyou.com/church/8010/service-and-events/events/1
 051400/
END:VEVENT
END:VCALENDAR
