BEGIN:VCALENDAR
VERSION:2.0
PRODID:-//achurchnearyou.com//eventfeed//EN
CALSCALE:GREGORIAN
METHOD:PUBLISH
X-WR-TIMEZONE:UTC
BEGIN:VEVENT
SUMMARY:Good Friday Reflective service
DTSTART:20250418T130000Z
DTEND:20250418T140000Z
DTSTAMP:20260424T191829Z
UID:11610392025-04-18 13:00:00+00:00achurchnearyou
CATEGORIES:
DESCRIPTION:Reflective and quiet service for Good Friday\, ending at 3pm w
 ith departure in silence
GEO:-1.664595;53.654959
LOCATION:St Mary & St Michael\, Whitley Lower
URL:https://www.achurchnearyou.com/church/8018/service-and-events/events/1
 161039/
END:VEVENT
END:VCALENDAR
