BEGIN:VCALENDAR
VERSION:2.0
PRODID:-//achurchnearyou.com//eventfeed//EN
CALSCALE:GREGORIAN
METHOD:PUBLISH
X-WR-TIMEZONE:UTC
BEGIN:VEVENT
SUMMARY:Lent Lunch
DTSTART:20250308T120000Z
DTEND:20250308T130000Z
DTSTAMP:20260424T191757Z
UID:11610422025-03-08 12:00:00+00:00achurchnearyou
CATEGORIES:
DESCRIPTION:Join us for light lunch. No charge\, donations welcome
GEO:-1.664595;53.654959
LOCATION:St Mary & St Michael\, Whitley Lower
URL:https://www.achurchnearyou.com/church/8018/service-and-events/events/1
 161042/
END:VEVENT
END:VCALENDAR
