BEGIN:VCALENDAR
VERSION:2.0
PRODID:-//achurchnearyou.com//eventfeed//EN
CALSCALE:GREGORIAN
METHOD:PUBLISH
X-WR-TIMEZONE:UTC
BEGIN:VEVENT
SUMMARY:Holy Communion
DTSTART;TZID=Europe/London:20250601T093000
DTEND;TZID=Europe/London:20250601T103000
DTSTAMP:20260426T034435Z
UID:12020572025-06-01 09:30:00+01:00achurchnearyou
CATEGORIES:
DESCRIPTION:Benefice Holy Communion with Sunday Club and refreshments
LOCATION:St Peter's Church\, Neatishead
URL:https://www.achurchnearyou.com/church/8028/service-and-events/events/1
 202057/
END:VEVENT
BEGIN:VEVENT
SUMMARY:Holy Communion
DTSTART;TZID=Europe/London:20250706T093000
DTEND;TZID=Europe/London:20250706T103000
DTSTAMP:20260426T034435Z
UID:12020572025-07-06 09:30:00+01:00achurchnearyou
CATEGORIES:
DESCRIPTION:Benefice Holy Communion with Sunday Club and refreshments
LOCATION:St Peter's Church\, Neatishead
URL:https://www.achurchnearyou.com/church/8028/service-and-events/events/1
 202057/
END:VEVENT
BEGIN:VEVENT
SUMMARY:Holy Communion
DTSTART;TZID=Europe/London:20250907T093000
DTEND;TZID=Europe/London:20250907T103000
DTSTAMP:20260426T034435Z
UID:12020572025-09-07 09:30:00+01:00achurchnearyou
CATEGORIES:
DESCRIPTION:Benefice Holy Communion with Sunday Club and refreshments
LOCATION:St Peter's Church\, Neatishead
URL:https://www.achurchnearyou.com/church/8028/service-and-events/events/1
 202057/
END:VEVENT
BEGIN:VEVENT
SUMMARY:Holy Communion
DTSTART;TZID=Europe/London:20251005T093000
DTEND;TZID=Europe/London:20251005T103000
DTSTAMP:20260426T034435Z
UID:12020572025-10-05 09:30:00+01:00achurchnearyou
CATEGORIES:
DESCRIPTION:Benefice Holy Communion with Sunday Club and refreshments
LOCATION:St Peter's Church\, Neatishead
URL:https://www.achurchnearyou.com/church/8028/service-and-events/events/1
 202057/
END:VEVENT
BEGIN:VEVENT
SUMMARY:Holy Communion
DTSTART;TZID=Europe/London:20251102T093000
DTEND;TZID=Europe/London:20251102T103000
DTSTAMP:20260426T034435Z
UID:12020572025-11-02 09:30:00+00:00achurchnearyou
CATEGORIES:
DESCRIPTION:Benefice Holy Communion with Sunday Club and refreshments
LOCATION:St Peter's Church\, Neatishead
URL:https://www.achurchnearyou.com/church/8028/service-and-events/events/1
 202057/
END:VEVENT
BEGIN:VEVENT
SUMMARY:Holy Communion
DTSTART;TZID=Europe/London:20251207T093000
DTEND;TZID=Europe/London:20251207T103000
DTSTAMP:20260426T034435Z
UID:12020572025-12-07 09:30:00+00:00achurchnearyou
CATEGORIES:
DESCRIPTION:Benefice Holy Communion with Sunday Club and refreshments
LOCATION:St Peter's Church\, Neatishead
URL:https://www.achurchnearyou.com/church/8028/service-and-events/events/1
 202057/
END:VEVENT
END:VCALENDAR
