BEGIN:VCALENDAR
VERSION:2.0
PRODID:-//achurchnearyou.com//eventfeed//EN
CALSCALE:GREGORIAN
METHOD:PUBLISH
X-WR-TIMEZONE:UTC
BEGIN:VEVENT
SUMMARY:Morning Worship
DTSTART:20251109T104500Z
DTEND:20251109T114500Z
DTSTAMP:20260426T014408Z
UID:12234802025-11-09 10:45:00+00:00achurchnearyou
CATEGORIES:
DESCRIPTION:Remembrance service\nAct of Remembrance at the War Memorial
GEO:1.483568;52.695788
LOCATION:Horning: St Benedict
URL:https://www.achurchnearyou.com/church/8028/service-and-events/events/1
 223480/
END:VEVENT
END:VCALENDAR
