BEGIN:VCALENDAR
VERSION:2.0
PRODID:-//achurchnearyou.com//eventfeed//EN
CALSCALE:GREGORIAN
METHOD:PUBLISH
X-WR-TIMEZONE:UTC
BEGIN:VEVENT
SUMMARY:Maundy Thursday
DTSTART:20250417T180000Z
DTEND:20250417T204500Z
DTSTAMP:20260424T233109Z
UID:11838752025-04-17 18:00:00+00:00achurchnearyou
CATEGORIES:
DESCRIPTION:7pm - Holy Communion with washing of feet and stripping of the
  altars\n\n8pm - The Vigil\n\n9pm - Compline
GEO:-3.090162;53.373446
LOCATION:Woodchurch\, Holy Cross
URL:https://www.achurchnearyou.com/church/8045/service-and-events/events/1
 183875/
END:VEVENT
END:VCALENDAR
