BEGIN:VCALENDAR
VERSION:2.0
PRODID:-//achurchnearyou.com//eventfeed//EN
CALSCALE:GREGORIAN
METHOD:PUBLISH
X-WR-TIMEZONE:UTC
BEGIN:VEVENT
SUMMARY:Blessing of the Crib and Christingle Service
DTSTART:20251224T160000Z
DTEND:20251224T170000Z
DTSTAMP:20260423T192930Z
UID:12706282025-12-24 16:00:00+00:00achurchnearyou
CATEGORIES:
DESCRIPTION:Come along to hear the Nativity Story and sing some carols.\nW
 ithin the service will be Christingle that help us continue the work of th
 e Children's Society.
GEO:-3.090162;53.373446
LOCATION:Woodchurch\, Holy Cross
URL:https://www.achurchnearyou.com/church/8045/service-and-events/events/1
 270628/
END:VEVENT
END:VCALENDAR
