BEGIN:VCALENDAR
VERSION:2.0
PRODID:-//achurchnearyou.com//eventfeed//EN
CALSCALE:GREGORIAN
METHOD:PUBLISH
X-WR-TIMEZONE:UTC
BEGIN:VEVENT
SUMMARY:Christmas Fair
DTSTART:20251129T120000Z
DTEND:20251129T150000Z
DTSTAMP:20260424T083451Z
UID:12402822025-11-29 12:00:00+00:00achurchnearyou
CATEGORIES:
DESCRIPTION:An afternoon out for the whole family.  A great place to sourc
 e unique Christmas gifts from an array of local vendors.  Homemade baked g
 oods and mulled wine on sale in our Christmas Cafe.  Bottle tombola for gr
 own-up\; activities for kids.\n\nTo register to run a stall (£30 fee)\, c
 ontact stbarnabaschristmasfair@gmail.com.
GEO:-0.198206;51.442577
LOCATION:St Barnabas\, Southfields
URL:https://www.achurchnearyou.com/church/806/service-and-events/events/12
 40282/
END:VEVENT
END:VCALENDAR
