BEGIN:VCALENDAR
VERSION:2.0
PRODID:-//achurchnearyou.com//eventfeed//EN
CALSCALE:GREGORIAN
METHOD:PUBLISH
X-WR-TIMEZONE:UTC
BEGIN:VEVENT
SUMMARY:Easter Sunday - Festal Choral Evensong
DTSTART:20260405T173000Z
DTEND:20260405T183000Z
DTSTAMP:20260423T202242Z
UID:13009152026-04-05 17:30:00+00:00achurchnearyou
CATEGORIES:
DESCRIPTION:Festal Choral Evensong at 6.30pm on Easter Day is a special Ev
 ensong\, using the Prayer Book service\, when the Choir's music provides a
  wonderful opportunity to lift our Easter worship to another level - all a
 re welcome.
GEO:-0.200828;51.322013
LOCATION:All Saints\, Banstead
URL:https://www.achurchnearyou.com/church/8081/service-and-events/events/1
 300915/
END:VEVENT
END:VCALENDAR
