BEGIN:VCALENDAR
VERSION:2.0
PRODID:-//achurchnearyou.com//eventfeed//EN
CALSCALE:GREGORIAN
METHOD:PUBLISH
X-WR-TIMEZONE:UTC
BEGIN:VEVENT
SUMMARY:Christingles at the Crib
DTSTART:20251224T150000Z
DTEND:20251224T170000Z
DTSTAMP:20260421T162054Z
UID:12609722025-12-24 15:00:00+00:00achurchnearyou
CATEGORIES:
DESCRIPTION:We have two services for you to choose from.  The first is at 
 3:00pm and is then repeated at 4:30pm.  Each service last an hour.
GEO:-0.702418;51.329015
LOCATION:Heatherside Church\, Camberley
URL:https://www.achurchnearyou.com/church/8093/service-and-events/events/1
 260972/
END:VEVENT
END:VCALENDAR
