BEGIN:VCALENDAR
VERSION:2.0
PRODID:-//achurchnearyou.com//eventfeed//EN
CALSCALE:GREGORIAN
METHOD:PUBLISH
X-WR-TIMEZONE:UTC
BEGIN:VEVENT
SUMMARY:Easter Sunday All Together Service
DTSTART:20260405T093000Z
DTEND:20260405T104500Z
DTSTAMP:20260422T030432Z
UID:4429332026-04-05 09:30:00+00:00achurchnearyou
CATEGORIES:
DESCRIPTION:An interactive celebration service as we celebrate the resurre
 ction of Jesus together in worship
GEO:-0.731263;51.33687
LOCATION:St Paul's Camberley
URL:http://stpaulscamberley.org.uk
END:VEVENT
END:VCALENDAR
