BEGIN:VCALENDAR
VERSION:2.0
PRODID:-//achurchnearyou.com//eventfeed//EN
CALSCALE:GREGORIAN
METHOD:PUBLISH
X-WR-TIMEZONE:UTC
BEGIN:VEVENT
SUMMARY:Palm Sunday Procession and Eucharist
DTSTART:20260329T100000Z
DTEND:20260329T110000Z
DTSTAMP:20260424T024849Z
UID:13024002026-03-29 10:00:00+00:00achurchnearyou
CATEGORIES:
DESCRIPTION:Traditional blessing of palm crosses and procession to mark th
 e beginning of Holy Week
GEO:-0.360091;51.241805
LOCATION:Ranmore: St Barnabas
URL:https://www.achurchnearyou.com/church/8123/service-and-events/events/1
 302400/
END:VEVENT
END:VCALENDAR
