BEGIN:VCALENDAR
VERSION:2.0
PRODID:-//achurchnearyou.com//eventfeed//EN
CALSCALE:GREGORIAN
METHOD:PUBLISH
X-WR-TIMEZONE:UTC
BEGIN:VEVENT
SUMMARY:Easter Trail
DTSTART;TZID=Europe/London:20260404T140000
DTEND;TZID=Europe/London:20260404T160000
DTSTAMP:20260423T121450Z
UID:13119151775307600.0achurchnearyou
CATEGORIES:
DESCRIPTION:An Easter Trail for all ages – bring your curiosity and your
  creativity. 🌷🐣\nBring your own art materials if you have them — o
 r simply come along and use the supplies we’ll provide. Everyone is welc
 ome to take part and enjoy a relaxed afternoon in the churchyard.  Easter 
 Egg Hunt at 3pm!
GEO:-0.431744;51.263949
LOCATION:St Martin's\, East Horsley
URL:https://www.achurchnearyou.com/church/8128/service-and-events/events/1
 311915/
END:VEVENT
BEGIN:VEVENT
SUMMARY:Family Service
DTSTART;TZID=Europe/London:20260405T103000
DTEND;TZID=Europe/London:20260405T111500
DTSTAMP:20260423T121450Z
UID:4045761775381400.0achurchnearyou
CATEGORIES:
DESCRIPTION:Join us on the first sunday of each month for our lively famil
 y service. Worship in a relaxed atmosphere for people of all ages. 
GEO:-0.431744;51.263949
LOCATION:St Martin's\, East Horsley
URL:https://www.achurchnearyou.com/church/8128/service-and-events/events/4
 04576/
END:VEVENT
BEGIN:VEVENT
SUMMARY:Family Service
DTSTART;TZID=Europe/London:20260503T103000
DTEND;TZID=Europe/London:20260503T111500
DTSTAMP:20260423T121450Z
UID:4045761777800600.0achurchnearyou
CATEGORIES:
DESCRIPTION:Join us on the first sunday of each month for our lively famil
 y service. Worship in a relaxed atmosphere for people of all ages. 
GEO:-0.431744;51.263949
LOCATION:St Martin's\, East Horsley
URL:https://www.achurchnearyou.com/church/8128/service-and-events/events/4
 04576/
END:VEVENT
BEGIN:VEVENT
SUMMARY:Family Service
DTSTART;TZID=Europe/London:20260607T103000
DTEND;TZID=Europe/London:20260607T111500
DTSTAMP:20260423T121450Z
UID:4045761780824600.0achurchnearyou
CATEGORIES:
DESCRIPTION:Join us on the first sunday of each month for our lively famil
 y service. Worship in a relaxed atmosphere for people of all ages. 
GEO:-0.431744;51.263949
LOCATION:St Martin's\, East Horsley
URL:https://www.achurchnearyou.com/church/8128/service-and-events/events/4
 04576/
END:VEVENT
BEGIN:VEVENT
SUMMARY:Family Service
DTSTART;TZID=Europe/London:20260705T103000
DTEND;TZID=Europe/London:20260705T111500
DTSTAMP:20260423T121450Z
UID:4045761783243800.0achurchnearyou
CATEGORIES:
DESCRIPTION:Join us on the first sunday of each month for our lively famil
 y service. Worship in a relaxed atmosphere for people of all ages. 
GEO:-0.431744;51.263949
LOCATION:St Martin's\, East Horsley
URL:https://www.achurchnearyou.com/church/8128/service-and-events/events/4
 04576/
END:VEVENT
BEGIN:VEVENT
SUMMARY:Family Service
DTSTART;TZID=Europe/London:20260802T103000
DTEND;TZID=Europe/London:20260802T111500
DTSTAMP:20260423T121450Z
UID:4045761785663000.0achurchnearyou
CATEGORIES:
DESCRIPTION:Join us on the first sunday of each month for our lively famil
 y service. Worship in a relaxed atmosphere for people of all ages. 
GEO:-0.431744;51.263949
LOCATION:St Martin's\, East Horsley
URL:https://www.achurchnearyou.com/church/8128/service-and-events/events/4
 04576/
END:VEVENT
BEGIN:VEVENT
SUMMARY:Family Service
DTSTART;TZID=Europe/London:20260906T103000
DTEND;TZID=Europe/London:20260906T111500
DTSTAMP:20260423T121450Z
UID:4045761788687000.0achurchnearyou
CATEGORIES:
DESCRIPTION:Join us on the first sunday of each month for our lively famil
 y service. Worship in a relaxed atmosphere for people of all ages. 
GEO:-0.431744;51.263949
LOCATION:St Martin's\, East Horsley
URL:https://www.achurchnearyou.com/church/8128/service-and-events/events/4
 04576/
END:VEVENT
END:VCALENDAR
