BEGIN:VCALENDAR
VERSION:2.0
PRODID:-//achurchnearyou.com//eventfeed//EN
CALSCALE:GREGORIAN
METHOD:PUBLISH
X-WR-TIMEZONE:UTC
BEGIN:VEVENT
SUMMARY:Mothering Sunday
DTSTART:20250330T091500Z
DTEND:20250330T101500Z
DTSTAMP:20260426T034324Z
UID:11642682025-03-30 09:15:00+00:00achurchnearyou
CATEGORIES:
DESCRIPTION:Parish Eucharist with hymns and distribution of flowers
GEO:-0.117139;51.471788
LOCATION:Stockwell\, St Michael
URL:http://www.youtube.com/@standrewandstmichaelstockw35
END:VEVENT
END:VCALENDAR
