BEGIN:VCALENDAR
VERSION:2.0
PRODID:-//achurchnearyou.com//eventfeed//EN
CALSCALE:GREGORIAN
METHOD:PUBLISH
X-WR-TIMEZONE:UTC
BEGIN:VEVENT
SUMMARY:Palm Sunday
DTSTART:20250413T091500Z
DTEND:20250413T101500Z
DTSTAMP:20260425T220815Z
UID:11642802025-04-13 09:15:00+00:00achurchnearyou
CATEGORIES:
DESCRIPTION:9.30am - 10am Procession from outside St Andrew’s church\, L
 andor Rd SW9 9JE  to St Michael’s church\, Stockwell Park Road\, SW9 0DA
 .  With the Revd Canon Roxanne Eversley\, a donkey and blessing of palm cr
 osses
GEO:-0.117139;51.471788
LOCATION:Stockwell\, St Michael
URL:http://www.youtube.com/@standrewandstmichaelstockw35
END:VEVENT
END:VCALENDAR
