BEGIN:VCALENDAR
VERSION:2.0
PRODID:-//achurchnearyou.com//eventfeed//EN
CALSCALE:GREGORIAN
METHOD:PUBLISH
X-WR-TIMEZONE:UTC
BEGIN:VEVENT
SUMMARY:Wednesday of Holy Week
DTSTART:20250416T183000Z
DTEND:20250416T190000Z
DTSTAMP:20260425T203533Z
UID:11647582025-04-16 18:30:00+00:00achurchnearyou
CATEGORIES:
DESCRIPTION:Eucharist with hymns\nSermon by guest preacher:  Rev Canon Rox
 anne Eversley
GEO:-0.117139;51.471788
LOCATION:Stockwell\, St Michael
URL:http://www.youtube.com/@standrewandstmichaelstockw35
END:VEVENT
END:VCALENDAR
