BEGIN:VCALENDAR
VERSION:2.0
PRODID:-//achurchnearyou.com//eventfeed//EN
CALSCALE:GREGORIAN
METHOD:PUBLISH
X-WR-TIMEZONE:UTC
BEGIN:VEVENT
SUMMARY:Christmas Carol Service by Candlelight
DTSTART:20251221T170000Z
DTEND:20251221T180000Z
DTSTAMP:20260424T205052Z
UID:12577622025-12-21 17:00:00+00:00achurchnearyou
CATEGORIES:
DESCRIPTION:Our hugely fun Christmas carol service for all the family with
  your favourite carols and some glorious choir carols by our wonderful scr
 atch adult and children's choirs.  This is our largest service of the year
  with 350+ people attending\, so come early.  As always\, mulled wine\, ju
 ice and mince pies are served after the service.
GEO:-0.117139;51.471788
LOCATION:Stockwell\, St Michael
URL:https://www.achurchnearyou.com/church/814/service-and-events/events/12
 57762/
END:VEVENT
END:VCALENDAR
