BEGIN:VCALENDAR
VERSION:2.0
PRODID:-//achurchnearyou.com//eventfeed//EN
CALSCALE:GREGORIAN
METHOD:PUBLISH
X-WR-TIMEZONE:UTC
BEGIN:VEVENT
SUMMARY:Said Communion
DTSTART;TZID=Europe/London:20260517T104500
DTEND;TZID=Europe/London:20260517T111500
DTSTAMP:20260424T012802Z
UID:5636932026-05-17 10:45:00+01:00achurchnearyou
CATEGORIES:
DESCRIPTION:Either stand alone or for those who have attended the Morning 
 Prayer service and also want communion\, but don't want to get up for the 
 8am 1662.
GEO:-0.117139;51.471788
LOCATION:Stockwell\, St Michael
URL:https://www.achurchnearyou.com/church/814/service-and-events/events/56
 3693/
END:VEVENT
BEGIN:VEVENT
SUMMARY:Said Communion
DTSTART;TZID=Europe/London:20260621T104500
DTEND;TZID=Europe/London:20260621T111500
DTSTAMP:20260424T012802Z
UID:5636932026-06-21 10:45:00+01:00achurchnearyou
CATEGORIES:
DESCRIPTION:Either stand alone or for those who have attended the Morning 
 Prayer service and also want communion\, but don't want to get up for the 
 8am 1662.
GEO:-0.117139;51.471788
LOCATION:Stockwell\, St Michael
URL:https://www.achurchnearyou.com/church/814/service-and-events/events/56
 3693/
END:VEVENT
BEGIN:VEVENT
SUMMARY:Said Communion
DTSTART;TZID=Europe/London:20260719T104500
DTEND;TZID=Europe/London:20260719T111500
DTSTAMP:20260424T012802Z
UID:5636932026-07-19 10:45:00+01:00achurchnearyou
CATEGORIES:
DESCRIPTION:Either stand alone or for those who have attended the Morning 
 Prayer service and also want communion\, but don't want to get up for the 
 8am 1662.
GEO:-0.117139;51.471788
LOCATION:Stockwell\, St Michael
URL:https://www.achurchnearyou.com/church/814/service-and-events/events/56
 3693/
END:VEVENT
BEGIN:VEVENT
SUMMARY:Said Communion
DTSTART;TZID=Europe/London:20260816T104500
DTEND;TZID=Europe/London:20260816T111500
DTSTAMP:20260424T012802Z
UID:5636932026-08-16 10:45:00+01:00achurchnearyou
CATEGORIES:
DESCRIPTION:Either stand alone or for those who have attended the Morning 
 Prayer service and also want communion\, but don't want to get up for the 
 8am 1662.
GEO:-0.117139;51.471788
LOCATION:Stockwell\, St Michael
URL:https://www.achurchnearyou.com/church/814/service-and-events/events/56
 3693/
END:VEVENT
BEGIN:VEVENT
SUMMARY:Said Communion
DTSTART;TZID=Europe/London:20260920T104500
DTEND;TZID=Europe/London:20260920T111500
DTSTAMP:20260424T012802Z
UID:5636932026-09-20 10:45:00+01:00achurchnearyou
CATEGORIES:
DESCRIPTION:Either stand alone or for those who have attended the Morning 
 Prayer service and also want communion\, but don't want to get up for the 
 8am 1662.
GEO:-0.117139;51.471788
LOCATION:Stockwell\, St Michael
URL:https://www.achurchnearyou.com/church/814/service-and-events/events/56
 3693/
END:VEVENT
BEGIN:VEVENT
SUMMARY:Said Communion
DTSTART;TZID=Europe/London:20261018T104500
DTEND;TZID=Europe/London:20261018T111500
DTSTAMP:20260424T012802Z
UID:5636932026-10-18 10:45:00+01:00achurchnearyou
CATEGORIES:
DESCRIPTION:Either stand alone or for those who have attended the Morning 
 Prayer service and also want communion\, but don't want to get up for the 
 8am 1662.
GEO:-0.117139;51.471788
LOCATION:Stockwell\, St Michael
URL:https://www.achurchnearyou.com/church/814/service-and-events/events/56
 3693/
END:VEVENT
BEGIN:VEVENT
SUMMARY:Said Communion
DTSTART;TZID=Europe/London:20261115T104500
DTEND;TZID=Europe/London:20261115T111500
DTSTAMP:20260424T012802Z
UID:5636932026-11-15 10:45:00+00:00achurchnearyou
CATEGORIES:
DESCRIPTION:Either stand alone or for those who have attended the Morning 
 Prayer service and also want communion\, but don't want to get up for the 
 8am 1662.
GEO:-0.117139;51.471788
LOCATION:Stockwell\, St Michael
URL:https://www.achurchnearyou.com/church/814/service-and-events/events/56
 3693/
END:VEVENT
BEGIN:VEVENT
SUMMARY:Said Communion
DTSTART;TZID=Europe/London:20261220T104500
DTEND;TZID=Europe/London:20261220T111500
DTSTAMP:20260424T012802Z
UID:5636932026-12-20 10:45:00+00:00achurchnearyou
CATEGORIES:
DESCRIPTION:Either stand alone or for those who have attended the Morning 
 Prayer service and also want communion\, but don't want to get up for the 
 8am 1662.
GEO:-0.117139;51.471788
LOCATION:Stockwell\, St Michael
URL:https://www.achurchnearyou.com/church/814/service-and-events/events/56
 3693/
END:VEVENT
BEGIN:VEVENT
SUMMARY:Said Communion
DTSTART;TZID=Europe/London:20270117T104500
DTEND;TZID=Europe/London:20270117T111500
DTSTAMP:20260424T012802Z
UID:5636932027-01-17 10:45:00+00:00achurchnearyou
CATEGORIES:
DESCRIPTION:Either stand alone or for those who have attended the Morning 
 Prayer service and also want communion\, but don't want to get up for the 
 8am 1662.
GEO:-0.117139;51.471788
LOCATION:Stockwell\, St Michael
URL:https://www.achurchnearyou.com/church/814/service-and-events/events/56
 3693/
END:VEVENT
BEGIN:VEVENT
SUMMARY:Said Communion
DTSTART;TZID=Europe/London:20270221T104500
DTEND;TZID=Europe/London:20270221T111500
DTSTAMP:20260424T012802Z
UID:5636932027-02-21 10:45:00+00:00achurchnearyou
CATEGORIES:
DESCRIPTION:Either stand alone or for those who have attended the Morning 
 Prayer service and also want communion\, but don't want to get up for the 
 8am 1662.
GEO:-0.117139;51.471788
LOCATION:Stockwell\, St Michael
URL:https://www.achurchnearyou.com/church/814/service-and-events/events/56
 3693/
END:VEVENT
BEGIN:VEVENT
SUMMARY:Said Communion
DTSTART;TZID=Europe/London:20270321T104500
DTEND;TZID=Europe/London:20270321T111500
DTSTAMP:20260424T012802Z
UID:5636932027-03-21 10:45:00+00:00achurchnearyou
CATEGORIES:
DESCRIPTION:Either stand alone or for those who have attended the Morning 
 Prayer service and also want communion\, but don't want to get up for the 
 8am 1662.
GEO:-0.117139;51.471788
LOCATION:Stockwell\, St Michael
URL:https://www.achurchnearyou.com/church/814/service-and-events/events/56
 3693/
END:VEVENT
BEGIN:VEVENT
SUMMARY:Said Communion
DTSTART;TZID=Europe/London:20270418T104500
DTEND;TZID=Europe/London:20270418T111500
DTSTAMP:20260424T012802Z
UID:5636932027-04-18 10:45:00+01:00achurchnearyou
CATEGORIES:
DESCRIPTION:Either stand alone or for those who have attended the Morning 
 Prayer service and also want communion\, but don't want to get up for the 
 8am 1662.
GEO:-0.117139;51.471788
LOCATION:Stockwell\, St Michael
URL:https://www.achurchnearyou.com/church/814/service-and-events/events/56
 3693/
END:VEVENT
END:VCALENDAR
