BEGIN:VCALENDAR
VERSION:2.0
PRODID:-//achurchnearyou.com//eventfeed//EN
CALSCALE:GREGORIAN
METHOD:PUBLISH
X-WR-TIMEZONE:UTC
BEGIN:VEVENT
SUMMARY:All-age Café Church
DTSTART;TZID=Europe/London:20250518T100000
DTEND;TZID=Europe/London:20250518T111500
DTSTAMP:20260420T090034Z
UID:11978832025-05-18 10:00:00+01:00achurchnearyou
CATEGORIES:
DESCRIPTION:More relax style of worship.  Breakfast with us as we worship.
GEO:-0.737923;51.315
LOCATION:Frimley: St Peter
URL:https://www.achurchnearyou.com/church/8155/service-and-events/events/1
 197883/
END:VEVENT
BEGIN:VEVENT
SUMMARY:All-age Café Church
DTSTART;TZID=Europe/London:20250615T100000
DTEND;TZID=Europe/London:20250615T111500
DTSTAMP:20260420T090034Z
UID:11978832025-06-15 10:00:00+01:00achurchnearyou
CATEGORIES:
DESCRIPTION:More relax style of worship.  Breakfast with us as we worship.
GEO:-0.737923;51.315
LOCATION:Frimley: St Peter
URL:https://www.achurchnearyou.com/church/8155/service-and-events/events/1
 197883/
END:VEVENT
BEGIN:VEVENT
SUMMARY:All-age Café Church
DTSTART;TZID=Europe/London:20250720T100000
DTEND;TZID=Europe/London:20250720T111500
DTSTAMP:20260420T090034Z
UID:11978832025-07-20 10:00:00+01:00achurchnearyou
CATEGORIES:
DESCRIPTION:More relax style of worship.  Breakfast with us as we worship.
GEO:-0.737923;51.315
LOCATION:Frimley: St Peter
URL:https://www.achurchnearyou.com/church/8155/service-and-events/events/1
 197883/
END:VEVENT
BEGIN:VEVENT
SUMMARY:All-age Café Church
DTSTART;TZID=Europe/London:20250817T100000
DTEND;TZID=Europe/London:20250817T111500
DTSTAMP:20260420T090034Z
UID:11978832025-08-17 10:00:00+01:00achurchnearyou
CATEGORIES:
DESCRIPTION:More relax style of worship.  Breakfast with us as we worship.
GEO:-0.737923;51.315
LOCATION:Frimley: St Peter
URL:https://www.achurchnearyou.com/church/8155/service-and-events/events/1
 197883/
END:VEVENT
BEGIN:VEVENT
SUMMARY:All-age Café Church
DTSTART;TZID=Europe/London:20250921T100000
DTEND;TZID=Europe/London:20250921T111500
DTSTAMP:20260420T090034Z
UID:11978832025-09-21 10:00:00+01:00achurchnearyou
CATEGORIES:
DESCRIPTION:More relax style of worship.  Breakfast with us as we worship.
GEO:-0.737923;51.315
LOCATION:Frimley: St Peter
URL:https://www.achurchnearyou.com/church/8155/service-and-events/events/1
 197883/
END:VEVENT
BEGIN:VEVENT
SUMMARY:All-age Café Church
DTSTART;TZID=Europe/London:20251019T100000
DTEND;TZID=Europe/London:20251019T111500
DTSTAMP:20260420T090034Z
UID:11978832025-10-19 10:00:00+01:00achurchnearyou
CATEGORIES:
DESCRIPTION:More relax style of worship.  Breakfast with us as we worship.
GEO:-0.737923;51.315
LOCATION:Frimley: St Peter
URL:https://www.achurchnearyou.com/church/8155/service-and-events/events/1
 197883/
END:VEVENT
BEGIN:VEVENT
SUMMARY:All-age Café Church
DTSTART;TZID=Europe/London:20251116T100000
DTEND;TZID=Europe/London:20251116T111500
DTSTAMP:20260420T090034Z
UID:11978832025-11-16 10:00:00+00:00achurchnearyou
CATEGORIES:
DESCRIPTION:More relax style of worship.  Breakfast with us as we worship.
GEO:-0.737923;51.315
LOCATION:Frimley: St Peter
URL:https://www.achurchnearyou.com/church/8155/service-and-events/events/1
 197883/
END:VEVENT
BEGIN:VEVENT
SUMMARY:All-age Café Church
DTSTART;TZID=Europe/London:20251221T100000
DTEND;TZID=Europe/London:20251221T111500
DTSTAMP:20260420T090034Z
UID:11978832025-12-21 10:00:00+00:00achurchnearyou
CATEGORIES:
DESCRIPTION:More relax style of worship.  Breakfast with us as we worship.
GEO:-0.737923;51.315
LOCATION:Frimley: St Peter
URL:https://www.achurchnearyou.com/church/8155/service-and-events/events/1
 197883/
END:VEVENT
BEGIN:VEVENT
SUMMARY:All-age Café Church
DTSTART;TZID=Europe/London:20260118T100000
DTEND;TZID=Europe/London:20260118T111500
DTSTAMP:20260420T090034Z
UID:11978832026-01-18 10:00:00+00:00achurchnearyou
CATEGORIES:
DESCRIPTION:More relax style of worship.  Breakfast with us as we worship.
GEO:-0.737923;51.315
LOCATION:Frimley: St Peter
URL:https://www.achurchnearyou.com/church/8155/service-and-events/events/1
 197883/
END:VEVENT
BEGIN:VEVENT
SUMMARY:All-age Café Church
DTSTART;TZID=Europe/London:20260215T100000
DTEND;TZID=Europe/London:20260215T111500
DTSTAMP:20260420T090034Z
UID:11978832026-02-15 10:00:00+00:00achurchnearyou
CATEGORIES:
DESCRIPTION:More relax style of worship.  Breakfast with us as we worship.
GEO:-0.737923;51.315
LOCATION:Frimley: St Peter
URL:https://www.achurchnearyou.com/church/8155/service-and-events/events/1
 197883/
END:VEVENT
BEGIN:VEVENT
SUMMARY:All-age Café Church
DTSTART;TZID=Europe/London:20260315T100000
DTEND;TZID=Europe/London:20260315T111500
DTSTAMP:20260420T090034Z
UID:11978832026-03-15 10:00:00+00:00achurchnearyou
CATEGORIES:
DESCRIPTION:More relax style of worship.  Breakfast with us as we worship.
GEO:-0.737923;51.315
LOCATION:Frimley: St Peter
URL:https://www.achurchnearyou.com/church/8155/service-and-events/events/1
 197883/
END:VEVENT
BEGIN:VEVENT
SUMMARY:All-age Café Church
DTSTART;TZID=Europe/London:20260419T100000
DTEND;TZID=Europe/London:20260419T111500
DTSTAMP:20260420T090034Z
UID:11978832026-04-19 10:00:00+01:00achurchnearyou
CATEGORIES:
DESCRIPTION:More relax style of worship.  Breakfast with us as we worship.
GEO:-0.737923;51.315
LOCATION:Frimley: St Peter
URL:https://www.achurchnearyou.com/church/8155/service-and-events/events/1
 197883/
END:VEVENT
BEGIN:VEVENT
SUMMARY:All-age Café Church
DTSTART;TZID=Europe/London:20260517T100000
DTEND;TZID=Europe/London:20260517T111500
DTSTAMP:20260420T090034Z
UID:11978832026-05-17 10:00:00+01:00achurchnearyou
CATEGORIES:
DESCRIPTION:More relax style of worship.  Breakfast with us as we worship.
GEO:-0.737923;51.315
LOCATION:Frimley: St Peter
URL:https://www.achurchnearyou.com/church/8155/service-and-events/events/1
 197883/
END:VEVENT
BEGIN:VEVENT
SUMMARY:All-age Café Church
DTSTART;TZID=Europe/London:20260621T100000
DTEND;TZID=Europe/London:20260621T111500
DTSTAMP:20260420T090034Z
UID:11978832026-06-21 10:00:00+01:00achurchnearyou
CATEGORIES:
DESCRIPTION:More relax style of worship.  Breakfast with us as we worship.
GEO:-0.737923;51.315
LOCATION:Frimley: St Peter
URL:https://www.achurchnearyou.com/church/8155/service-and-events/events/1
 197883/
END:VEVENT
BEGIN:VEVENT
SUMMARY:All-age Café Church
DTSTART;TZID=Europe/London:20260719T100000
DTEND;TZID=Europe/London:20260719T111500
DTSTAMP:20260420T090034Z
UID:11978832026-07-19 10:00:00+01:00achurchnearyou
CATEGORIES:
DESCRIPTION:More relax style of worship.  Breakfast with us as we worship.
GEO:-0.737923;51.315
LOCATION:Frimley: St Peter
URL:https://www.achurchnearyou.com/church/8155/service-and-events/events/1
 197883/
END:VEVENT
BEGIN:VEVENT
SUMMARY:All-age Café Church
DTSTART;TZID=Europe/London:20260816T100000
DTEND;TZID=Europe/London:20260816T111500
DTSTAMP:20260420T090034Z
UID:11978832026-08-16 10:00:00+01:00achurchnearyou
CATEGORIES:
DESCRIPTION:More relax style of worship.  Breakfast with us as we worship.
GEO:-0.737923;51.315
LOCATION:Frimley: St Peter
URL:https://www.achurchnearyou.com/church/8155/service-and-events/events/1
 197883/
END:VEVENT
BEGIN:VEVENT
SUMMARY:All-age Café Church
DTSTART;TZID=Europe/London:20260920T100000
DTEND;TZID=Europe/London:20260920T111500
DTSTAMP:20260420T090034Z
UID:11978832026-09-20 10:00:00+01:00achurchnearyou
CATEGORIES:
DESCRIPTION:More relax style of worship.  Breakfast with us as we worship.
GEO:-0.737923;51.315
LOCATION:Frimley: St Peter
URL:https://www.achurchnearyou.com/church/8155/service-and-events/events/1
 197883/
END:VEVENT
BEGIN:VEVENT
SUMMARY:All-age Café Church
DTSTART;TZID=Europe/London:20261018T100000
DTEND;TZID=Europe/London:20261018T111500
DTSTAMP:20260420T090034Z
UID:11978832026-10-18 10:00:00+01:00achurchnearyou
CATEGORIES:
DESCRIPTION:More relax style of worship.  Breakfast with us as we worship.
GEO:-0.737923;51.315
LOCATION:Frimley: St Peter
URL:https://www.achurchnearyou.com/church/8155/service-and-events/events/1
 197883/
END:VEVENT
BEGIN:VEVENT
SUMMARY:All-age Café Church
DTSTART;TZID=Europe/London:20261115T100000
DTEND;TZID=Europe/London:20261115T111500
DTSTAMP:20260420T090034Z
UID:11978832026-11-15 10:00:00+00:00achurchnearyou
CATEGORIES:
DESCRIPTION:More relax style of worship.  Breakfast with us as we worship.
GEO:-0.737923;51.315
LOCATION:Frimley: St Peter
URL:https://www.achurchnearyou.com/church/8155/service-and-events/events/1
 197883/
END:VEVENT
BEGIN:VEVENT
SUMMARY:All-age Café Church
DTSTART;TZID=Europe/London:20261220T100000
DTEND;TZID=Europe/London:20261220T111500
DTSTAMP:20260420T090034Z
UID:11978832026-12-20 10:00:00+00:00achurchnearyou
CATEGORIES:
DESCRIPTION:More relax style of worship.  Breakfast with us as we worship.
GEO:-0.737923;51.315
LOCATION:Frimley: St Peter
URL:https://www.achurchnearyou.com/church/8155/service-and-events/events/1
 197883/
END:VEVENT
END:VCALENDAR
