BEGIN:VCALENDAR
VERSION:2.0
PRODID:-//achurchnearyou.com//eventfeed//EN
CALSCALE:GREGORIAN
METHOD:PUBLISH
X-WR-TIMEZONE:UTC
BEGIN:VEVENT
SUMMARY:Good Friday Final Hour at the Cross
DTSTART:20260403T130000Z
DTEND:20260403T140000Z
DTSTAMP:20260422T120527Z
UID:13203842026-04-03 13:00:00+00:00achurchnearyou
CATEGORIES:
DESCRIPTION:Join us for our Final Hour at the Cross service on Good Friday
 .
GEO:-0.737923;51.315
LOCATION:Frimley: St Peter
URL:https://www.achurchnearyou.com/church/8155/service-and-events/events/1
 320384/
END:VEVENT
END:VCALENDAR
