BEGIN:VCALENDAR
VERSION:2.0
PRODID:-//achurchnearyou.com//eventfeed//EN
CALSCALE:GREGORIAN
METHOD:PUBLISH
X-WR-TIMEZONE:UTC
BEGIN:VEVENT
SUMMARY:Easter Sunday Family Service
DTSTART:20250420T093000Z
DTEND:20250420T103000Z
DTSTAMP:20260424T144411Z
UID:11624752025-04-20 09:30:00+00:00achurchnearyou
CATEGORIES:
DESCRIPTION:Please join us for a family service as we celebrate the risen 
 Saviour. An extended Holy Communion will follow this service.
GEO:-0.756105;51.110879
LOCATION:St Luke's Church\, Grayshott
URL:https://www.achurchnearyou.com/church/8161/service-and-events/events/1
 162475/
END:VEVENT
END:VCALENDAR
