BEGIN:VCALENDAR
VERSION:2.0
PRODID:-//achurchnearyou.com//eventfeed//EN
CALSCALE:GREGORIAN
METHOD:PUBLISH
X-WR-TIMEZONE:UTC
BEGIN:VEVENT
SUMMARY:August Services - Worship Service followed by Holy Communion
DTSTART;TZID=Europe/London:20250803T103000
DTEND;TZID=Europe/London:20250803T120000
DTSTAMP:20260424T042647Z
UID:12115222025-08-03 10:30:00+01:00achurchnearyou
CATEGORIES:
DESCRIPTION:During August there is a change to our normal services. Instea
 d we have the following - \n10:30 Worship Service\n11:30 Holy Communion (s
 hort CW Eucharistic Prayer)\n\nYou are welcome to join us at any point.\nO
 n two of the Sundays (3rd and 17th) we have baptisms.
GEO:-0.756105;51.110879
LOCATION:St Luke's Church\, Grayshott
URL:https://www.achurchnearyou.com/church/8161/service-and-events/events/1
 211522/
END:VEVENT
BEGIN:VEVENT
SUMMARY:August Services - Worship Service followed by Holy Communion
DTSTART;TZID=Europe/London:20250810T103000
DTEND;TZID=Europe/London:20250810T120000
DTSTAMP:20260424T042647Z
UID:12115222025-08-10 10:30:00+01:00achurchnearyou
CATEGORIES:
DESCRIPTION:During August there is a change to our normal services. Instea
 d we have the following - \n10:30 Worship Service\n11:30 Holy Communion (s
 hort CW Eucharistic Prayer)\n\nYou are welcome to join us at any point.\nO
 n two of the Sundays (3rd and 17th) we have baptisms.
GEO:-0.756105;51.110879
LOCATION:St Luke's Church\, Grayshott
URL:https://www.achurchnearyou.com/church/8161/service-and-events/events/1
 211522/
END:VEVENT
BEGIN:VEVENT
SUMMARY:August Services - Worship Service followed by Holy Communion
DTSTART;TZID=Europe/London:20250817T103000
DTEND;TZID=Europe/London:20250817T120000
DTSTAMP:20260424T042647Z
UID:12115222025-08-17 10:30:00+01:00achurchnearyou
CATEGORIES:
DESCRIPTION:During August there is a change to our normal services. Instea
 d we have the following - \n10:30 Worship Service\n11:30 Holy Communion (s
 hort CW Eucharistic Prayer)\n\nYou are welcome to join us at any point.\nO
 n two of the Sundays (3rd and 17th) we have baptisms.
GEO:-0.756105;51.110879
LOCATION:St Luke's Church\, Grayshott
URL:https://www.achurchnearyou.com/church/8161/service-and-events/events/1
 211522/
END:VEVENT
BEGIN:VEVENT
SUMMARY:August Services - Worship Service followed by Holy Communion
DTSTART;TZID=Europe/London:20250824T103000
DTEND;TZID=Europe/London:20250824T120000
DTSTAMP:20260424T042647Z
UID:12115222025-08-24 10:30:00+01:00achurchnearyou
CATEGORIES:
DESCRIPTION:During August there is a change to our normal services. Instea
 d we have the following - \n10:30 Worship Service\n11:30 Holy Communion (s
 hort CW Eucharistic Prayer)\n\nYou are welcome to join us at any point.\nO
 n two of the Sundays (3rd and 17th) we have baptisms.
GEO:-0.756105;51.110879
LOCATION:St Luke's Church\, Grayshott
URL:https://www.achurchnearyou.com/church/8161/service-and-events/events/1
 211522/
END:VEVENT
BEGIN:VEVENT
SUMMARY:August Services - Worship Service followed by Holy Communion
DTSTART;TZID=Europe/London:20250831T103000
DTEND;TZID=Europe/London:20250831T120000
DTSTAMP:20260424T042647Z
UID:12115222025-08-31 10:30:00+01:00achurchnearyou
CATEGORIES:
DESCRIPTION:During August there is a change to our normal services. Instea
 d we have the following - \n10:30 Worship Service\n11:30 Holy Communion (s
 hort CW Eucharistic Prayer)\n\nYou are welcome to join us at any point.\nO
 n two of the Sundays (3rd and 17th) we have baptisms.
GEO:-0.756105;51.110879
LOCATION:St Luke's Church\, Grayshott
URL:https://www.achurchnearyou.com/church/8161/service-and-events/events/1
 211522/
END:VEVENT
END:VCALENDAR
