BEGIN:VCALENDAR
VERSION:2.0
PRODID:-//achurchnearyou.com//eventfeed//EN
CALSCALE:GREGORIAN
METHOD:PUBLISH
X-WR-TIMEZONE:UTC
BEGIN:VEVENT
SUMMARY:Maundy Thursday Service
DTSTART:20260402T170000Z
DTEND:20260402T180000Z
DTSTAMP:20260423T095210Z
UID:12801642026-04-02 17:00:00+00:00achurchnearyou
CATEGORIES:
DESCRIPTION:Commemorates the washing of the feet and the last supper.\nThi
 s service marks the end of Lent and allows an opportunity to reflect on th
 e last supper and have your feet washed if you wish.
GEO:-0.756105;51.110879
LOCATION:St Luke's Church\, Grayshott
URL:https://www.achurchnearyou.com/church/8161/service-and-events/events/1
 280164/
END:VEVENT
END:VCALENDAR
