BEGIN:VCALENDAR
VERSION:2.0
PRODID:-//achurchnearyou.com//eventfeed//EN
CALSCALE:GREGORIAN
METHOD:PUBLISH
X-WR-TIMEZONE:UTC
BEGIN:VEVENT
SUMMARY:Pontifical Patronal Mass and Confirmations with Bishop Andrew
DTSTART:20251207T100000Z
DTEND:20251207T111500Z
DTSTAMP:20260422T170244Z
UID:12599372025-12-07 10:00:00+00:00achurchnearyou
CATEGORIES:
DESCRIPTION:We are delighted to welcome Bishop Andrew to confirm candidate
 s
GEO:-0.577306;51.234053
LOCATION:Guildford: St Nicolas
URL:https://www.achurchnearyou.com/church/8169/service-and-events/events/1
 259937/
END:VEVENT
END:VCALENDAR
