BEGIN:VCALENDAR
VERSION:2.0
PRODID:-//achurchnearyou.com//eventfeed//EN
CALSCALE:GREGORIAN
METHOD:PUBLISH
X-WR-TIMEZONE:UTC
BEGIN:VEVENT
SUMMARY:All-age Communion Service
DTSTART;TZID=Europe/London:20260405T093000
DTEND;TZID=Europe/London:20260405T102000
DTSTAMP:20260422T014917Z
UID:6779741775377800.0achurchnearyou
CATEGORIES:
DESCRIPTION:A Communion service for the whole family
GEO:-0.785201;51.228106
LOCATION:Hale: St John the Evangelist
URL:https://badshotleaandhale.org/
END:VEVENT
BEGIN:VEVENT
SUMMARY:Trinity
DTSTART;TZID=Europe/London:20260405T150000
DTEND;TZID=Europe/London:20260405T160000
DTSTAMP:20260422T014917Z
UID:12879221775397600.0achurchnearyou
CATEGORIES:
DESCRIPTION:Our informal\, inclusive\, contemporary service. We sing\, we 
 pray and we learn from the Bible. All are welcome to come along and find o
 ut more.
LOCATION:Badshot Lea: St George
URL:https://www.achurchnearyou.com/church/8174/service-and-events/events/1
 287922/
END:VEVENT
BEGIN:VEVENT
SUMMARY:Bubble Church
DTSTART;TZID=Europe/London:20260412T093000
DTEND;TZID=Europe/London:20260412T100000
DTSTAMP:20260422T014917Z
UID:12660271775982600.0achurchnearyou
CATEGORIES:
DESCRIPTION:Bubble Church is a Sunday church service especially for babies
 \, toddlers\, and young families. It's a puppet-packed\, Jesus-centred\, c
 offee-and-food-fuelled\, 30 minute kids and families adventure.\nLet us kn
 ow you're planning to come by filling out the form below
LOCATION:Badshot Lea: St George
URL:https://docs.google.com/forms/d/e/1FAIpQLSdNfWMbSbfPw9RTgLsmghcrWi_bb3
 6xRcLvCmgM0AmJqc2FaQ/viewform?usp=dialog
END:VEVENT
BEGIN:VEVENT
SUMMARY:All-age Communion Service
DTSTART;TZID=Europe/London:20260412T093000
DTEND;TZID=Europe/London:20260412T102000
DTSTAMP:20260422T014917Z
UID:6779741775982600.0achurchnearyou
CATEGORIES:
DESCRIPTION:A Communion service for the whole family
GEO:-0.785201;51.228106
LOCATION:Hale: St John the Evangelist
URL:https://badshotleaandhale.org/
END:VEVENT
BEGIN:VEVENT
SUMMARY:All-age Communion Service
DTSTART;TZID=Europe/London:20260419T093000
DTEND;TZID=Europe/London:20260419T102000
DTSTAMP:20260422T014917Z
UID:6779741776587400.0achurchnearyou
CATEGORIES:
DESCRIPTION:A Communion service for the whole family
GEO:-0.785201;51.228106
LOCATION:Hale: St John the Evangelist
URL:https://badshotleaandhale.org/
END:VEVENT
BEGIN:VEVENT
SUMMARY:Trinity
DTSTART;TZID=Europe/London:20260419T150000
DTEND;TZID=Europe/London:20260419T160000
DTSTAMP:20260422T014917Z
UID:12879221776607200.0achurchnearyou
CATEGORIES:
DESCRIPTION:Our informal\, inclusive\, contemporary service. We sing\, we 
 pray and we learn from the Bible. All are welcome to come along and find o
 ut more.
LOCATION:Badshot Lea: St George
URL:https://www.achurchnearyou.com/church/8174/service-and-events/events/1
 287922/
END:VEVENT
BEGIN:VEVENT
SUMMARY:Bubble Church
DTSTART;TZID=Europe/London:20260426T093000
DTEND;TZID=Europe/London:20260426T100000
DTSTAMP:20260422T014917Z
UID:12660271777192200.0achurchnearyou
CATEGORIES:
DESCRIPTION:Bubble Church is a Sunday church service especially for babies
 \, toddlers\, and young families. It's a puppet-packed\, Jesus-centred\, c
 offee-and-food-fuelled\, 30 minute kids and families adventure.\nLet us kn
 ow you're planning to come by filling out the form below
LOCATION:Badshot Lea: St George
URL:https://docs.google.com/forms/d/e/1FAIpQLSdNfWMbSbfPw9RTgLsmghcrWi_bb3
 6xRcLvCmgM0AmJqc2FaQ/viewform?usp=dialog
END:VEVENT
BEGIN:VEVENT
SUMMARY:All-age Communion Service
DTSTART;TZID=Europe/London:20260426T093000
DTEND;TZID=Europe/London:20260426T102000
DTSTAMP:20260422T014917Z
UID:6779741777192200.0achurchnearyou
CATEGORIES:
DESCRIPTION:A Communion service for the whole family
GEO:-0.785201;51.228106
LOCATION:Hale: St John the Evangelist
URL:https://badshotleaandhale.org/
END:VEVENT
BEGIN:VEVENT
SUMMARY:All-age Communion Service
DTSTART;TZID=Europe/London:20260503T093000
DTEND;TZID=Europe/London:20260503T102000
DTSTAMP:20260422T014917Z
UID:6779741777797000.0achurchnearyou
CATEGORIES:
DESCRIPTION:A Communion service for the whole family
GEO:-0.785201;51.228106
LOCATION:Hale: St John the Evangelist
URL:https://badshotleaandhale.org/
END:VEVENT
BEGIN:VEVENT
SUMMARY:Trinity
DTSTART;TZID=Europe/London:20260503T150000
DTEND;TZID=Europe/London:20260503T160000
DTSTAMP:20260422T014917Z
UID:12879221777816800.0achurchnearyou
CATEGORIES:
DESCRIPTION:Our informal\, inclusive\, contemporary service. We sing\, we 
 pray and we learn from the Bible. All are welcome to come along and find o
 ut more.
LOCATION:Badshot Lea: St George
URL:https://www.achurchnearyou.com/church/8174/service-and-events/events/1
 287922/
END:VEVENT
BEGIN:VEVENT
SUMMARY:Bubble Church
DTSTART;TZID=Europe/London:20260510T093000
DTEND;TZID=Europe/London:20260510T100000
DTSTAMP:20260422T014917Z
UID:12660271778401800.0achurchnearyou
CATEGORIES:
DESCRIPTION:Bubble Church is a Sunday church service especially for babies
 \, toddlers\, and young families. It's a puppet-packed\, Jesus-centred\, c
 offee-and-food-fuelled\, 30 minute kids and families adventure.\nLet us kn
 ow you're planning to come by filling out the form below
LOCATION:Badshot Lea: St George
URL:https://docs.google.com/forms/d/e/1FAIpQLSdNfWMbSbfPw9RTgLsmghcrWi_bb3
 6xRcLvCmgM0AmJqc2FaQ/viewform?usp=dialog
END:VEVENT
BEGIN:VEVENT
SUMMARY:All-age Communion Service
DTSTART;TZID=Europe/London:20260510T093000
DTEND;TZID=Europe/London:20260510T102000
DTSTAMP:20260422T014917Z
UID:6779741778401800.0achurchnearyou
CATEGORIES:
DESCRIPTION:A Communion service for the whole family
GEO:-0.785201;51.228106
LOCATION:Hale: St John the Evangelist
URL:https://badshotleaandhale.org/
END:VEVENT
BEGIN:VEVENT
SUMMARY:All-age Communion Service
DTSTART;TZID=Europe/London:20260517T093000
DTEND;TZID=Europe/London:20260517T102000
DTSTAMP:20260422T014917Z
UID:6779741779006600.0achurchnearyou
CATEGORIES:
DESCRIPTION:A Communion service for the whole family
GEO:-0.785201;51.228106
LOCATION:Hale: St John the Evangelist
URL:https://badshotleaandhale.org/
END:VEVENT
BEGIN:VEVENT
SUMMARY:Trinity
DTSTART;TZID=Europe/London:20260517T150000
DTEND;TZID=Europe/London:20260517T160000
DTSTAMP:20260422T014917Z
UID:12879221779026400.0achurchnearyou
CATEGORIES:
DESCRIPTION:Our informal\, inclusive\, contemporary service. We sing\, we 
 pray and we learn from the Bible. All are welcome to come along and find o
 ut more.
LOCATION:Badshot Lea: St George
URL:https://www.achurchnearyou.com/church/8174/service-and-events/events/1
 287922/
END:VEVENT
BEGIN:VEVENT
SUMMARY:Bubble Church
DTSTART;TZID=Europe/London:20260524T093000
DTEND;TZID=Europe/London:20260524T100000
DTSTAMP:20260422T014917Z
UID:12660271779611400.0achurchnearyou
CATEGORIES:
DESCRIPTION:Bubble Church is a Sunday church service especially for babies
 \, toddlers\, and young families. It's a puppet-packed\, Jesus-centred\, c
 offee-and-food-fuelled\, 30 minute kids and families adventure.\nLet us kn
 ow you're planning to come by filling out the form below
LOCATION:Badshot Lea: St George
URL:https://docs.google.com/forms/d/e/1FAIpQLSdNfWMbSbfPw9RTgLsmghcrWi_bb3
 6xRcLvCmgM0AmJqc2FaQ/viewform?usp=dialog
END:VEVENT
BEGIN:VEVENT
SUMMARY:All-age Communion Service
DTSTART;TZID=Europe/London:20260524T093000
DTEND;TZID=Europe/London:20260524T102000
DTSTAMP:20260422T014917Z
UID:6779741779611400.0achurchnearyou
CATEGORIES:
DESCRIPTION:A Communion service for the whole family
GEO:-0.785201;51.228106
LOCATION:Hale: St John the Evangelist
URL:https://badshotleaandhale.org/
END:VEVENT
BEGIN:VEVENT
SUMMARY:All-age Communion Service
DTSTART;TZID=Europe/London:20260531T093000
DTEND;TZID=Europe/London:20260531T102000
DTSTAMP:20260422T014917Z
UID:6779741780216200.0achurchnearyou
CATEGORIES:
DESCRIPTION:A Communion service for the whole family
GEO:-0.785201;51.228106
LOCATION:Hale: St John the Evangelist
URL:https://badshotleaandhale.org/
END:VEVENT
BEGIN:VEVENT
SUMMARY:All-age Communion Service
DTSTART;TZID=Europe/London:20260607T093000
DTEND;TZID=Europe/London:20260607T102000
DTSTAMP:20260422T014917Z
UID:6779741780821000.0achurchnearyou
CATEGORIES:
DESCRIPTION:A Communion service for the whole family
GEO:-0.785201;51.228106
LOCATION:Hale: St John the Evangelist
URL:https://badshotleaandhale.org/
END:VEVENT
BEGIN:VEVENT
SUMMARY:Trinity
DTSTART;TZID=Europe/London:20260607T150000
DTEND;TZID=Europe/London:20260607T160000
DTSTAMP:20260422T014917Z
UID:12879221780840800.0achurchnearyou
CATEGORIES:
DESCRIPTION:Our informal\, inclusive\, contemporary service. We sing\, we 
 pray and we learn from the Bible. All are welcome to come along and find o
 ut more.
LOCATION:Badshot Lea: St George
URL:https://www.achurchnearyou.com/church/8174/service-and-events/events/1
 287922/
END:VEVENT
BEGIN:VEVENT
SUMMARY:Bubble Church
DTSTART;TZID=Europe/London:20260614T093000
DTEND;TZID=Europe/London:20260614T100000
DTSTAMP:20260422T014917Z
UID:12660271781425800.0achurchnearyou
CATEGORIES:
DESCRIPTION:Bubble Church is a Sunday church service especially for babies
 \, toddlers\, and young families. It's a puppet-packed\, Jesus-centred\, c
 offee-and-food-fuelled\, 30 minute kids and families adventure.\nLet us kn
 ow you're planning to come by filling out the form below
LOCATION:Badshot Lea: St George
URL:https://docs.google.com/forms/d/e/1FAIpQLSdNfWMbSbfPw9RTgLsmghcrWi_bb3
 6xRcLvCmgM0AmJqc2FaQ/viewform?usp=dialog
END:VEVENT
BEGIN:VEVENT
SUMMARY:All-age Communion Service
DTSTART;TZID=Europe/London:20260614T093000
DTEND;TZID=Europe/London:20260614T102000
DTSTAMP:20260422T014917Z
UID:6779741781425800.0achurchnearyou
CATEGORIES:
DESCRIPTION:A Communion service for the whole family
GEO:-0.785201;51.228106
LOCATION:Hale: St John the Evangelist
URL:https://badshotleaandhale.org/
END:VEVENT
BEGIN:VEVENT
SUMMARY:All-age Communion Service
DTSTART;TZID=Europe/London:20260621T093000
DTEND;TZID=Europe/London:20260621T102000
DTSTAMP:20260422T014917Z
UID:6779741782030600.0achurchnearyou
CATEGORIES:
DESCRIPTION:A Communion service for the whole family
GEO:-0.785201;51.228106
LOCATION:Hale: St John the Evangelist
URL:https://badshotleaandhale.org/
END:VEVENT
BEGIN:VEVENT
SUMMARY:Trinity
DTSTART;TZID=Europe/London:20260621T150000
DTEND;TZID=Europe/London:20260621T160000
DTSTAMP:20260422T014917Z
UID:12879221782050400.0achurchnearyou
CATEGORIES:
DESCRIPTION:Our informal\, inclusive\, contemporary service. We sing\, we 
 pray and we learn from the Bible. All are welcome to come along and find o
 ut more.
LOCATION:Badshot Lea: St George
URL:https://www.achurchnearyou.com/church/8174/service-and-events/events/1
 287922/
END:VEVENT
BEGIN:VEVENT
SUMMARY:Bubble Church
DTSTART;TZID=Europe/London:20260628T093000
DTEND;TZID=Europe/London:20260628T100000
DTSTAMP:20260422T014917Z
UID:12660271782635400.0achurchnearyou
CATEGORIES:
DESCRIPTION:Bubble Church is a Sunday church service especially for babies
 \, toddlers\, and young families. It's a puppet-packed\, Jesus-centred\, c
 offee-and-food-fuelled\, 30 minute kids and families adventure.\nLet us kn
 ow you're planning to come by filling out the form below
LOCATION:Badshot Lea: St George
URL:https://docs.google.com/forms/d/e/1FAIpQLSdNfWMbSbfPw9RTgLsmghcrWi_bb3
 6xRcLvCmgM0AmJqc2FaQ/viewform?usp=dialog
END:VEVENT
BEGIN:VEVENT
SUMMARY:All-age Communion Service
DTSTART;TZID=Europe/London:20260628T093000
DTEND;TZID=Europe/London:20260628T102000
DTSTAMP:20260422T014917Z
UID:6779741782635400.0achurchnearyou
CATEGORIES:
DESCRIPTION:A Communion service for the whole family
GEO:-0.785201;51.228106
LOCATION:Hale: St John the Evangelist
URL:https://badshotleaandhale.org/
END:VEVENT
BEGIN:VEVENT
SUMMARY:All-age Communion Service
DTSTART;TZID=Europe/London:20260705T093000
DTEND;TZID=Europe/London:20260705T102000
DTSTAMP:20260422T014917Z
UID:6779741783240200.0achurchnearyou
CATEGORIES:
DESCRIPTION:A Communion service for the whole family
GEO:-0.785201;51.228106
LOCATION:Hale: St John the Evangelist
URL:https://badshotleaandhale.org/
END:VEVENT
BEGIN:VEVENT
SUMMARY:Trinity
DTSTART;TZID=Europe/London:20260705T150000
DTEND;TZID=Europe/London:20260705T160000
DTSTAMP:20260422T014917Z
UID:12879221783260000.0achurchnearyou
CATEGORIES:
DESCRIPTION:Our informal\, inclusive\, contemporary service. We sing\, we 
 pray and we learn from the Bible. All are welcome to come along and find o
 ut more.
LOCATION:Badshot Lea: St George
URL:https://www.achurchnearyou.com/church/8174/service-and-events/events/1
 287922/
END:VEVENT
BEGIN:VEVENT
SUMMARY:Bubble Church
DTSTART;TZID=Europe/London:20260712T093000
DTEND;TZID=Europe/London:20260712T100000
DTSTAMP:20260422T014917Z
UID:12660271783845000.0achurchnearyou
CATEGORIES:
DESCRIPTION:Bubble Church is a Sunday church service especially for babies
 \, toddlers\, and young families. It's a puppet-packed\, Jesus-centred\, c
 offee-and-food-fuelled\, 30 minute kids and families adventure.\nLet us kn
 ow you're planning to come by filling out the form below
LOCATION:Badshot Lea: St George
URL:https://docs.google.com/forms/d/e/1FAIpQLSdNfWMbSbfPw9RTgLsmghcrWi_bb3
 6xRcLvCmgM0AmJqc2FaQ/viewform?usp=dialog
END:VEVENT
BEGIN:VEVENT
SUMMARY:All-age Communion Service
DTSTART;TZID=Europe/London:20260712T093000
DTEND;TZID=Europe/London:20260712T102000
DTSTAMP:20260422T014917Z
UID:6779741783845000.0achurchnearyou
CATEGORIES:
DESCRIPTION:A Communion service for the whole family
GEO:-0.785201;51.228106
LOCATION:Hale: St John the Evangelist
URL:https://badshotleaandhale.org/
END:VEVENT
BEGIN:VEVENT
SUMMARY:All-age Communion Service
DTSTART;TZID=Europe/London:20260719T093000
DTEND;TZID=Europe/London:20260719T102000
DTSTAMP:20260422T014917Z
UID:6779741784449800.0achurchnearyou
CATEGORIES:
DESCRIPTION:A Communion service for the whole family
GEO:-0.785201;51.228106
LOCATION:Hale: St John the Evangelist
URL:https://badshotleaandhale.org/
END:VEVENT
BEGIN:VEVENT
SUMMARY:Trinity
DTSTART;TZID=Europe/London:20260719T150000
DTEND;TZID=Europe/London:20260719T160000
DTSTAMP:20260422T014917Z
UID:12879221784469600.0achurchnearyou
CATEGORIES:
DESCRIPTION:Our informal\, inclusive\, contemporary service. We sing\, we 
 pray and we learn from the Bible. All are welcome to come along and find o
 ut more.
LOCATION:Badshot Lea: St George
URL:https://www.achurchnearyou.com/church/8174/service-and-events/events/1
 287922/
END:VEVENT
BEGIN:VEVENT
SUMMARY:Bubble Church
DTSTART;TZID=Europe/London:20260726T093000
DTEND;TZID=Europe/London:20260726T100000
DTSTAMP:20260422T014917Z
UID:12660271785054600.0achurchnearyou
CATEGORIES:
DESCRIPTION:Bubble Church is a Sunday church service especially for babies
 \, toddlers\, and young families. It's a puppet-packed\, Jesus-centred\, c
 offee-and-food-fuelled\, 30 minute kids and families adventure.\nLet us kn
 ow you're planning to come by filling out the form below
LOCATION:Badshot Lea: St George
URL:https://docs.google.com/forms/d/e/1FAIpQLSdNfWMbSbfPw9RTgLsmghcrWi_bb3
 6xRcLvCmgM0AmJqc2FaQ/viewform?usp=dialog
END:VEVENT
BEGIN:VEVENT
SUMMARY:All-age Communion Service
DTSTART;TZID=Europe/London:20260726T093000
DTEND;TZID=Europe/London:20260726T102000
DTSTAMP:20260422T014917Z
UID:6779741785054600.0achurchnearyou
CATEGORIES:
DESCRIPTION:A Communion service for the whole family
GEO:-0.785201;51.228106
LOCATION:Hale: St John the Evangelist
URL:https://badshotleaandhale.org/
END:VEVENT
BEGIN:VEVENT
SUMMARY:All-age Communion Service
DTSTART;TZID=Europe/London:20260802T093000
DTEND;TZID=Europe/London:20260802T102000
DTSTAMP:20260422T014917Z
UID:6779741785659400.0achurchnearyou
CATEGORIES:
DESCRIPTION:A Communion service for the whole family
GEO:-0.785201;51.228106
LOCATION:Hale: St John the Evangelist
URL:https://badshotleaandhale.org/
END:VEVENT
BEGIN:VEVENT
SUMMARY:Trinity
DTSTART;TZID=Europe/London:20260802T150000
DTEND;TZID=Europe/London:20260802T160000
DTSTAMP:20260422T014917Z
UID:12879221785679200.0achurchnearyou
CATEGORIES:
DESCRIPTION:Our informal\, inclusive\, contemporary service. We sing\, we 
 pray and we learn from the Bible. All are welcome to come along and find o
 ut more.
LOCATION:Badshot Lea: St George
URL:https://www.achurchnearyou.com/church/8174/service-and-events/events/1
 287922/
END:VEVENT
BEGIN:VEVENT
SUMMARY:Bubble Church
DTSTART;TZID=Europe/London:20260809T093000
DTEND;TZID=Europe/London:20260809T100000
DTSTAMP:20260422T014917Z
UID:12660271786264200.0achurchnearyou
CATEGORIES:
DESCRIPTION:Bubble Church is a Sunday church service especially for babies
 \, toddlers\, and young families. It's a puppet-packed\, Jesus-centred\, c
 offee-and-food-fuelled\, 30 minute kids and families adventure.\nLet us kn
 ow you're planning to come by filling out the form below
LOCATION:Badshot Lea: St George
URL:https://docs.google.com/forms/d/e/1FAIpQLSdNfWMbSbfPw9RTgLsmghcrWi_bb3
 6xRcLvCmgM0AmJqc2FaQ/viewform?usp=dialog
END:VEVENT
BEGIN:VEVENT
SUMMARY:All-age Communion Service
DTSTART;TZID=Europe/London:20260809T093000
DTEND;TZID=Europe/London:20260809T102000
DTSTAMP:20260422T014917Z
UID:6779741786264200.0achurchnearyou
CATEGORIES:
DESCRIPTION:A Communion service for the whole family
GEO:-0.785201;51.228106
LOCATION:Hale: St John the Evangelist
URL:https://badshotleaandhale.org/
END:VEVENT
BEGIN:VEVENT
SUMMARY:All-age Communion Service
DTSTART;TZID=Europe/London:20260816T093000
DTEND;TZID=Europe/London:20260816T102000
DTSTAMP:20260422T014917Z
UID:6779741786869000.0achurchnearyou
CATEGORIES:
DESCRIPTION:A Communion service for the whole family
GEO:-0.785201;51.228106
LOCATION:Hale: St John the Evangelist
URL:https://badshotleaandhale.org/
END:VEVENT
BEGIN:VEVENT
SUMMARY:Trinity
DTSTART;TZID=Europe/London:20260816T150000
DTEND;TZID=Europe/London:20260816T160000
DTSTAMP:20260422T014917Z
UID:12879221786888800.0achurchnearyou
CATEGORIES:
DESCRIPTION:Our informal\, inclusive\, contemporary service. We sing\, we 
 pray and we learn from the Bible. All are welcome to come along and find o
 ut more.
LOCATION:Badshot Lea: St George
URL:https://www.achurchnearyou.com/church/8174/service-and-events/events/1
 287922/
END:VEVENT
BEGIN:VEVENT
SUMMARY:Bubble Church
DTSTART;TZID=Europe/London:20260823T093000
DTEND;TZID=Europe/London:20260823T100000
DTSTAMP:20260422T014917Z
UID:12660271787473800.0achurchnearyou
CATEGORIES:
DESCRIPTION:Bubble Church is a Sunday church service especially for babies
 \, toddlers\, and young families. It's a puppet-packed\, Jesus-centred\, c
 offee-and-food-fuelled\, 30 minute kids and families adventure.\nLet us kn
 ow you're planning to come by filling out the form below
LOCATION:Badshot Lea: St George
URL:https://docs.google.com/forms/d/e/1FAIpQLSdNfWMbSbfPw9RTgLsmghcrWi_bb3
 6xRcLvCmgM0AmJqc2FaQ/viewform?usp=dialog
END:VEVENT
BEGIN:VEVENT
SUMMARY:All-age Communion Service
DTSTART;TZID=Europe/London:20260823T093000
DTEND;TZID=Europe/London:20260823T102000
DTSTAMP:20260422T014917Z
UID:6779741787473800.0achurchnearyou
CATEGORIES:
DESCRIPTION:A Communion service for the whole family
GEO:-0.785201;51.228106
LOCATION:Hale: St John the Evangelist
URL:https://badshotleaandhale.org/
END:VEVENT
BEGIN:VEVENT
SUMMARY:All-age Communion Service
DTSTART;TZID=Europe/London:20260830T093000
DTEND;TZID=Europe/London:20260830T102000
DTSTAMP:20260422T014917Z
UID:6779741788078600.0achurchnearyou
CATEGORIES:
DESCRIPTION:A Communion service for the whole family
GEO:-0.785201;51.228106
LOCATION:Hale: St John the Evangelist
URL:https://badshotleaandhale.org/
END:VEVENT
BEGIN:VEVENT
SUMMARY:All-age Communion Service
DTSTART;TZID=Europe/London:20260906T093000
DTEND;TZID=Europe/London:20260906T102000
DTSTAMP:20260422T014917Z
UID:6779741788683400.0achurchnearyou
CATEGORIES:
DESCRIPTION:A Communion service for the whole family
GEO:-0.785201;51.228106
LOCATION:Hale: St John the Evangelist
URL:https://badshotleaandhale.org/
END:VEVENT
BEGIN:VEVENT
SUMMARY:Trinity
DTSTART;TZID=Europe/London:20260906T150000
DTEND;TZID=Europe/London:20260906T160000
DTSTAMP:20260422T014917Z
UID:12879221788703200.0achurchnearyou
CATEGORIES:
DESCRIPTION:Our informal\, inclusive\, contemporary service. We sing\, we 
 pray and we learn from the Bible. All are welcome to come along and find o
 ut more.
LOCATION:Badshot Lea: St George
URL:https://www.achurchnearyou.com/church/8174/service-and-events/events/1
 287922/
END:VEVENT
BEGIN:VEVENT
SUMMARY:Bubble Church
DTSTART;TZID=Europe/London:20260913T093000
DTEND;TZID=Europe/London:20260913T100000
DTSTAMP:20260422T014917Z
UID:12660271789288200.0achurchnearyou
CATEGORIES:
DESCRIPTION:Bubble Church is a Sunday church service especially for babies
 \, toddlers\, and young families. It's a puppet-packed\, Jesus-centred\, c
 offee-and-food-fuelled\, 30 minute kids and families adventure.\nLet us kn
 ow you're planning to come by filling out the form below
LOCATION:Badshot Lea: St George
URL:https://docs.google.com/forms/d/e/1FAIpQLSdNfWMbSbfPw9RTgLsmghcrWi_bb3
 6xRcLvCmgM0AmJqc2FaQ/viewform?usp=dialog
END:VEVENT
BEGIN:VEVENT
SUMMARY:All-age Communion Service
DTSTART;TZID=Europe/London:20260913T093000
DTEND;TZID=Europe/London:20260913T102000
DTSTAMP:20260422T014917Z
UID:6779741789288200.0achurchnearyou
CATEGORIES:
DESCRIPTION:A Communion service for the whole family
GEO:-0.785201;51.228106
LOCATION:Hale: St John the Evangelist
URL:https://badshotleaandhale.org/
END:VEVENT
BEGIN:VEVENT
SUMMARY:All-age Communion Service
DTSTART;TZID=Europe/London:20260920T093000
DTEND;TZID=Europe/London:20260920T102000
DTSTAMP:20260422T014917Z
UID:6779741789893000.0achurchnearyou
CATEGORIES:
DESCRIPTION:A Communion service for the whole family
GEO:-0.785201;51.228106
LOCATION:Hale: St John the Evangelist
URL:https://badshotleaandhale.org/
END:VEVENT
BEGIN:VEVENT
SUMMARY:Trinity
DTSTART;TZID=Europe/London:20260920T150000
DTEND;TZID=Europe/London:20260920T160000
DTSTAMP:20260422T014917Z
UID:12879221789912800.0achurchnearyou
CATEGORIES:
DESCRIPTION:Our informal\, inclusive\, contemporary service. We sing\, we 
 pray and we learn from the Bible. All are welcome to come along and find o
 ut more.
LOCATION:Badshot Lea: St George
URL:https://www.achurchnearyou.com/church/8174/service-and-events/events/1
 287922/
END:VEVENT
BEGIN:VEVENT
SUMMARY:Bubble Church
DTSTART;TZID=Europe/London:20260927T093000
DTEND;TZID=Europe/London:20260927T100000
DTSTAMP:20260422T014917Z
UID:12660271790497800.0achurchnearyou
CATEGORIES:
DESCRIPTION:Bubble Church is a Sunday church service especially for babies
 \, toddlers\, and young families. It's a puppet-packed\, Jesus-centred\, c
 offee-and-food-fuelled\, 30 minute kids and families adventure.\nLet us kn
 ow you're planning to come by filling out the form below
LOCATION:Badshot Lea: St George
URL:https://docs.google.com/forms/d/e/1FAIpQLSdNfWMbSbfPw9RTgLsmghcrWi_bb3
 6xRcLvCmgM0AmJqc2FaQ/viewform?usp=dialog
END:VEVENT
BEGIN:VEVENT
SUMMARY:All-age Communion Service
DTSTART;TZID=Europe/London:20260927T093000
DTEND;TZID=Europe/London:20260927T102000
DTSTAMP:20260422T014917Z
UID:6779741790497800.0achurchnearyou
CATEGORIES:
DESCRIPTION:A Communion service for the whole family
GEO:-0.785201;51.228106
LOCATION:Hale: St John the Evangelist
URL:https://badshotleaandhale.org/
END:VEVENT
END:VCALENDAR
