BEGIN:VCALENDAR
VERSION:2.0
PRODID:-//achurchnearyou.com//eventfeed//EN
CALSCALE:GREGORIAN
METHOD:PUBLISH
X-WR-TIMEZONE:UTC
BEGIN:VEVENT
SUMMARY:Walsingham Cell Mass
DTSTART;TZID=Europe/London:20250426T110000
DTEND;TZID=Europe/London:20250426T120000
DTSTAMP:20260421T150228Z
UID:11845562025-04-26 11:00:00+01:00achurchnearyou
CATEGORIES:
DESCRIPTION:Mass at Holy Trinity\, with exposition from 10:30am.
GEO:-0.777361;51.326605
LOCATION:Holy Trinity\, Hawley
URL:https://www.achurchnearyou.com/church/8179/service-and-events/events/1
 184556/
END:VEVENT
BEGIN:VEVENT
SUMMARY:Walsingham Cell Mass
DTSTART;TZID=Europe/London:20250517T110000
DTEND;TZID=Europe/London:20250517T120000
DTSTAMP:20260421T150228Z
UID:11845562025-05-17 11:00:00+01:00achurchnearyou
CATEGORIES:
DESCRIPTION:Mass at Holy Trinity\, with exposition from 10:30am.
GEO:-0.777361;51.326605
LOCATION:Holy Trinity\, Hawley
URL:https://www.achurchnearyou.com/church/8179/service-and-events/events/1
 184556/
END:VEVENT
BEGIN:VEVENT
SUMMARY:Walsingham Cell Mass
DTSTART;TZID=Europe/London:20250621T110000
DTEND;TZID=Europe/London:20250621T120000
DTSTAMP:20260421T150228Z
UID:11845562025-06-21 11:00:00+01:00achurchnearyou
CATEGORIES:
DESCRIPTION:Mass at Holy Trinity\, with exposition from 10:30am.
GEO:-0.777361;51.326605
LOCATION:Holy Trinity\, Hawley
URL:https://www.achurchnearyou.com/church/8179/service-and-events/events/1
 184556/
END:VEVENT
BEGIN:VEVENT
SUMMARY:Walsingham Cell Mass
DTSTART;TZID=Europe/London:20250719T110000
DTEND;TZID=Europe/London:20250719T120000
DTSTAMP:20260421T150228Z
UID:11845562025-07-19 11:00:00+01:00achurchnearyou
CATEGORIES:
DESCRIPTION:Mass at Holy Trinity\, with exposition from 10:30am.
GEO:-0.777361;51.326605
LOCATION:Holy Trinity\, Hawley
URL:https://www.achurchnearyou.com/church/8179/service-and-events/events/1
 184556/
END:VEVENT
END:VCALENDAR
