BEGIN:VCALENDAR
VERSION:2.0
PRODID:-//achurchnearyou.com//eventfeed//EN
CALSCALE:GREGORIAN
METHOD:PUBLISH
X-WR-TIMEZONE:UTC
BEGIN:VEVENT
SUMMARY:Tea at Two
DTSTART;TZID=Europe/London:20260403T140000
DTEND;TZID=Europe/London:20260403T150000
DTSTAMP:20260420T234408Z
UID:11835281775221200.0achurchnearyou
CATEGORIES:
DESCRIPTION:We meet every Friday. Come and join us for great cake\, tea/co
 ffee and conversation. We look forward to seeing you!
GEO:-0.775091;51.311627
LOCATION:South Hawley: All Saints
URL:https://www.achurchnearyou.com/church/8180/service-and-events/events/1
 183528/
END:VEVENT
BEGIN:VEVENT
SUMMARY:Sunday Mass
DTSTART;TZID=Europe/London:20260405T091500
DTEND;TZID=Europe/London:20260405T101500
DTSTAMP:20260420T234408Z
UID:11835321775376900.0achurchnearyou
CATEGORIES:
DESCRIPTION:9:15am at All Saints\, Cove
GEO:-0.775091;51.311627
LOCATION:South Hawley: All Saints
URL:https://www.achurchnearyou.com/church/8180/service-and-events/events/1
 183532/
END:VEVENT
BEGIN:VEVENT
SUMMARY:Tea at Two
DTSTART;TZID=Europe/London:20260410T140000
DTEND;TZID=Europe/London:20260410T150000
DTSTAMP:20260420T234408Z
UID:11835281775826000.0achurchnearyou
CATEGORIES:
DESCRIPTION:We meet every Friday. Come and join us for great cake\, tea/co
 ffee and conversation. We look forward to seeing you!
GEO:-0.775091;51.311627
LOCATION:South Hawley: All Saints
URL:https://www.achurchnearyou.com/church/8180/service-and-events/events/1
 183528/
END:VEVENT
BEGIN:VEVENT
SUMMARY:Sunday Mass
DTSTART;TZID=Europe/London:20260412T091500
DTEND;TZID=Europe/London:20260412T101500
DTSTAMP:20260420T234408Z
UID:11835321775981700.0achurchnearyou
CATEGORIES:
DESCRIPTION:9:15am at All Saints\, Cove
GEO:-0.775091;51.311627
LOCATION:South Hawley: All Saints
URL:https://www.achurchnearyou.com/church/8180/service-and-events/events/1
 183532/
END:VEVENT
BEGIN:VEVENT
SUMMARY:Tea at Two
DTSTART;TZID=Europe/London:20260417T140000
DTEND;TZID=Europe/London:20260417T150000
DTSTAMP:20260420T234408Z
UID:11835281776430800.0achurchnearyou
CATEGORIES:
DESCRIPTION:We meet every Friday. Come and join us for great cake\, tea/co
 ffee and conversation. We look forward to seeing you!
GEO:-0.775091;51.311627
LOCATION:South Hawley: All Saints
URL:https://www.achurchnearyou.com/church/8180/service-and-events/events/1
 183528/
END:VEVENT
BEGIN:VEVENT
SUMMARY:Sunday Mass
DTSTART;TZID=Europe/London:20260419T091500
DTEND;TZID=Europe/London:20260419T101500
DTSTAMP:20260420T234408Z
UID:11835321776586500.0achurchnearyou
CATEGORIES:
DESCRIPTION:9:15am at All Saints\, Cove
GEO:-0.775091;51.311627
LOCATION:South Hawley: All Saints
URL:https://www.achurchnearyou.com/church/8180/service-and-events/events/1
 183532/
END:VEVENT
BEGIN:VEVENT
SUMMARY:Tea at Two
DTSTART;TZID=Europe/London:20260424T140000
DTEND;TZID=Europe/London:20260424T150000
DTSTAMP:20260420T234408Z
UID:11835281777035600.0achurchnearyou
CATEGORIES:
DESCRIPTION:We meet every Friday. Come and join us for great cake\, tea/co
 ffee and conversation. We look forward to seeing you!
GEO:-0.775091;51.311627
LOCATION:South Hawley: All Saints
URL:https://www.achurchnearyou.com/church/8180/service-and-events/events/1
 183528/
END:VEVENT
BEGIN:VEVENT
SUMMARY:Sunday Mass
DTSTART;TZID=Europe/London:20260426T091500
DTEND;TZID=Europe/London:20260426T101500
DTSTAMP:20260420T234408Z
UID:11835321777191300.0achurchnearyou
CATEGORIES:
DESCRIPTION:9:15am at All Saints\, Cove
GEO:-0.775091;51.311627
LOCATION:South Hawley: All Saints
URL:https://www.achurchnearyou.com/church/8180/service-and-events/events/1
 183532/
END:VEVENT
BEGIN:VEVENT
SUMMARY:Tea at Two
DTSTART;TZID=Europe/London:20260501T140000
DTEND;TZID=Europe/London:20260501T150000
DTSTAMP:20260420T234408Z
UID:11835281777640400.0achurchnearyou
CATEGORIES:
DESCRIPTION:We meet every Friday. Come and join us for great cake\, tea/co
 ffee and conversation. We look forward to seeing you!
GEO:-0.775091;51.311627
LOCATION:South Hawley: All Saints
URL:https://www.achurchnearyou.com/church/8180/service-and-events/events/1
 183528/
END:VEVENT
BEGIN:VEVENT
SUMMARY:Sunday Mass
DTSTART;TZID=Europe/London:20260503T091500
DTEND;TZID=Europe/London:20260503T101500
DTSTAMP:20260420T234408Z
UID:11835321777796100.0achurchnearyou
CATEGORIES:
DESCRIPTION:9:15am at All Saints\, Cove
GEO:-0.775091;51.311627
LOCATION:South Hawley: All Saints
URL:https://www.achurchnearyou.com/church/8180/service-and-events/events/1
 183532/
END:VEVENT
BEGIN:VEVENT
SUMMARY:Tea at Two
DTSTART;TZID=Europe/London:20260508T140000
DTEND;TZID=Europe/London:20260508T150000
DTSTAMP:20260420T234408Z
UID:11835281778245200.0achurchnearyou
CATEGORIES:
DESCRIPTION:We meet every Friday. Come and join us for great cake\, tea/co
 ffee and conversation. We look forward to seeing you!
GEO:-0.775091;51.311627
LOCATION:South Hawley: All Saints
URL:https://www.achurchnearyou.com/church/8180/service-and-events/events/1
 183528/
END:VEVENT
BEGIN:VEVENT
SUMMARY:Sunday Mass
DTSTART;TZID=Europe/London:20260510T091500
DTEND;TZID=Europe/London:20260510T101500
DTSTAMP:20260420T234408Z
UID:11835321778400900.0achurchnearyou
CATEGORIES:
DESCRIPTION:9:15am at All Saints\, Cove
GEO:-0.775091;51.311627
LOCATION:South Hawley: All Saints
URL:https://www.achurchnearyou.com/church/8180/service-and-events/events/1
 183532/
END:VEVENT
BEGIN:VEVENT
SUMMARY:Tea at Two
DTSTART;TZID=Europe/London:20260515T140000
DTEND;TZID=Europe/London:20260515T150000
DTSTAMP:20260420T234408Z
UID:11835281778850000.0achurchnearyou
CATEGORIES:
DESCRIPTION:We meet every Friday. Come and join us for great cake\, tea/co
 ffee and conversation. We look forward to seeing you!
GEO:-0.775091;51.311627
LOCATION:South Hawley: All Saints
URL:https://www.achurchnearyou.com/church/8180/service-and-events/events/1
 183528/
END:VEVENT
BEGIN:VEVENT
SUMMARY:Sunday Mass
DTSTART;TZID=Europe/London:20260517T091500
DTEND;TZID=Europe/London:20260517T101500
DTSTAMP:20260420T234408Z
UID:11835321779005700.0achurchnearyou
CATEGORIES:
DESCRIPTION:9:15am at All Saints\, Cove
GEO:-0.775091;51.311627
LOCATION:South Hawley: All Saints
URL:https://www.achurchnearyou.com/church/8180/service-and-events/events/1
 183532/
END:VEVENT
BEGIN:VEVENT
SUMMARY:Tea at Two
DTSTART;TZID=Europe/London:20260522T140000
DTEND;TZID=Europe/London:20260522T150000
DTSTAMP:20260420T234408Z
UID:11835281779454800.0achurchnearyou
CATEGORIES:
DESCRIPTION:We meet every Friday. Come and join us for great cake\, tea/co
 ffee and conversation. We look forward to seeing you!
GEO:-0.775091;51.311627
LOCATION:South Hawley: All Saints
URL:https://www.achurchnearyou.com/church/8180/service-and-events/events/1
 183528/
END:VEVENT
BEGIN:VEVENT
SUMMARY:Sunday Mass
DTSTART;TZID=Europe/London:20260524T091500
DTEND;TZID=Europe/London:20260524T101500
DTSTAMP:20260420T234408Z
UID:11835321779610500.0achurchnearyou
CATEGORIES:
DESCRIPTION:9:15am at All Saints\, Cove
GEO:-0.775091;51.311627
LOCATION:South Hawley: All Saints
URL:https://www.achurchnearyou.com/church/8180/service-and-events/events/1
 183532/
END:VEVENT
BEGIN:VEVENT
SUMMARY:Tea at Two
DTSTART;TZID=Europe/London:20260529T140000
DTEND;TZID=Europe/London:20260529T150000
DTSTAMP:20260420T234408Z
UID:11835281780059600.0achurchnearyou
CATEGORIES:
DESCRIPTION:We meet every Friday. Come and join us for great cake\, tea/co
 ffee and conversation. We look forward to seeing you!
GEO:-0.775091;51.311627
LOCATION:South Hawley: All Saints
URL:https://www.achurchnearyou.com/church/8180/service-and-events/events/1
 183528/
END:VEVENT
BEGIN:VEVENT
SUMMARY:Sunday Mass
DTSTART;TZID=Europe/London:20260531T091500
DTEND;TZID=Europe/London:20260531T101500
DTSTAMP:20260420T234408Z
UID:11835321780215300.0achurchnearyou
CATEGORIES:
DESCRIPTION:9:15am at All Saints\, Cove
GEO:-0.775091;51.311627
LOCATION:South Hawley: All Saints
URL:https://www.achurchnearyou.com/church/8180/service-and-events/events/1
 183532/
END:VEVENT
BEGIN:VEVENT
SUMMARY:Tea at Two
DTSTART;TZID=Europe/London:20260605T140000
DTEND;TZID=Europe/London:20260605T150000
DTSTAMP:20260420T234408Z
UID:11835281780664400.0achurchnearyou
CATEGORIES:
DESCRIPTION:We meet every Friday. Come and join us for great cake\, tea/co
 ffee and conversation. We look forward to seeing you!
GEO:-0.775091;51.311627
LOCATION:South Hawley: All Saints
URL:https://www.achurchnearyou.com/church/8180/service-and-events/events/1
 183528/
END:VEVENT
BEGIN:VEVENT
SUMMARY:Sunday Mass
DTSTART;TZID=Europe/London:20260607T091500
DTEND;TZID=Europe/London:20260607T101500
DTSTAMP:20260420T234408Z
UID:11835321780820100.0achurchnearyou
CATEGORIES:
DESCRIPTION:9:15am at All Saints\, Cove
GEO:-0.775091;51.311627
LOCATION:South Hawley: All Saints
URL:https://www.achurchnearyou.com/church/8180/service-and-events/events/1
 183532/
END:VEVENT
BEGIN:VEVENT
SUMMARY:Tea at Two
DTSTART;TZID=Europe/London:20260612T140000
DTEND;TZID=Europe/London:20260612T150000
DTSTAMP:20260420T234408Z
UID:11835281781269200.0achurchnearyou
CATEGORIES:
DESCRIPTION:We meet every Friday. Come and join us for great cake\, tea/co
 ffee and conversation. We look forward to seeing you!
GEO:-0.775091;51.311627
LOCATION:South Hawley: All Saints
URL:https://www.achurchnearyou.com/church/8180/service-and-events/events/1
 183528/
END:VEVENT
BEGIN:VEVENT
SUMMARY:Sunday Mass
DTSTART;TZID=Europe/London:20260614T091500
DTEND;TZID=Europe/London:20260614T101500
DTSTAMP:20260420T234408Z
UID:11835321781424900.0achurchnearyou
CATEGORIES:
DESCRIPTION:9:15am at All Saints\, Cove
GEO:-0.775091;51.311627
LOCATION:South Hawley: All Saints
URL:https://www.achurchnearyou.com/church/8180/service-and-events/events/1
 183532/
END:VEVENT
BEGIN:VEVENT
SUMMARY:Tea at Two
DTSTART;TZID=Europe/London:20260619T140000
DTEND;TZID=Europe/London:20260619T150000
DTSTAMP:20260420T234408Z
UID:11835281781874000.0achurchnearyou
CATEGORIES:
DESCRIPTION:We meet every Friday. Come and join us for great cake\, tea/co
 ffee and conversation. We look forward to seeing you!
GEO:-0.775091;51.311627
LOCATION:South Hawley: All Saints
URL:https://www.achurchnearyou.com/church/8180/service-and-events/events/1
 183528/
END:VEVENT
BEGIN:VEVENT
SUMMARY:Sunday Mass
DTSTART;TZID=Europe/London:20260621T091500
DTEND;TZID=Europe/London:20260621T101500
DTSTAMP:20260420T234408Z
UID:11835321782029700.0achurchnearyou
CATEGORIES:
DESCRIPTION:9:15am at All Saints\, Cove
GEO:-0.775091;51.311627
LOCATION:South Hawley: All Saints
URL:https://www.achurchnearyou.com/church/8180/service-and-events/events/1
 183532/
END:VEVENT
BEGIN:VEVENT
SUMMARY:Tea at Two
DTSTART;TZID=Europe/London:20260626T140000
DTEND;TZID=Europe/London:20260626T150000
DTSTAMP:20260420T234408Z
UID:11835281782478800.0achurchnearyou
CATEGORIES:
DESCRIPTION:We meet every Friday. Come and join us for great cake\, tea/co
 ffee and conversation. We look forward to seeing you!
GEO:-0.775091;51.311627
LOCATION:South Hawley: All Saints
URL:https://www.achurchnearyou.com/church/8180/service-and-events/events/1
 183528/
END:VEVENT
BEGIN:VEVENT
SUMMARY:Sunday Mass
DTSTART;TZID=Europe/London:20260628T091500
DTEND;TZID=Europe/London:20260628T101500
DTSTAMP:20260420T234408Z
UID:11835321782634500.0achurchnearyou
CATEGORIES:
DESCRIPTION:9:15am at All Saints\, Cove
GEO:-0.775091;51.311627
LOCATION:South Hawley: All Saints
URL:https://www.achurchnearyou.com/church/8180/service-and-events/events/1
 183532/
END:VEVENT
BEGIN:VEVENT
SUMMARY:Tea at Two
DTSTART;TZID=Europe/London:20260703T140000
DTEND;TZID=Europe/London:20260703T150000
DTSTAMP:20260420T234408Z
UID:11835281783083600.0achurchnearyou
CATEGORIES:
DESCRIPTION:We meet every Friday. Come and join us for great cake\, tea/co
 ffee and conversation. We look forward to seeing you!
GEO:-0.775091;51.311627
LOCATION:South Hawley: All Saints
URL:https://www.achurchnearyou.com/church/8180/service-and-events/events/1
 183528/
END:VEVENT
BEGIN:VEVENT
SUMMARY:Sunday Mass
DTSTART;TZID=Europe/London:20260705T091500
DTEND;TZID=Europe/London:20260705T101500
DTSTAMP:20260420T234408Z
UID:11835321783239300.0achurchnearyou
CATEGORIES:
DESCRIPTION:9:15am at All Saints\, Cove
GEO:-0.775091;51.311627
LOCATION:South Hawley: All Saints
URL:https://www.achurchnearyou.com/church/8180/service-and-events/events/1
 183532/
END:VEVENT
BEGIN:VEVENT
SUMMARY:Tea at Two
DTSTART;TZID=Europe/London:20260710T140000
DTEND;TZID=Europe/London:20260710T150000
DTSTAMP:20260420T234408Z
UID:11835281783688400.0achurchnearyou
CATEGORIES:
DESCRIPTION:We meet every Friday. Come and join us for great cake\, tea/co
 ffee and conversation. We look forward to seeing you!
GEO:-0.775091;51.311627
LOCATION:South Hawley: All Saints
URL:https://www.achurchnearyou.com/church/8180/service-and-events/events/1
 183528/
END:VEVENT
BEGIN:VEVENT
SUMMARY:Sunday Mass
DTSTART;TZID=Europe/London:20260712T091500
DTEND;TZID=Europe/London:20260712T101500
DTSTAMP:20260420T234408Z
UID:11835321783844100.0achurchnearyou
CATEGORIES:
DESCRIPTION:9:15am at All Saints\, Cove
GEO:-0.775091;51.311627
LOCATION:South Hawley: All Saints
URL:https://www.achurchnearyou.com/church/8180/service-and-events/events/1
 183532/
END:VEVENT
BEGIN:VEVENT
SUMMARY:Tea at Two
DTSTART;TZID=Europe/London:20260717T140000
DTEND;TZID=Europe/London:20260717T150000
DTSTAMP:20260420T234408Z
UID:11835281784293200.0achurchnearyou
CATEGORIES:
DESCRIPTION:We meet every Friday. Come and join us for great cake\, tea/co
 ffee and conversation. We look forward to seeing you!
GEO:-0.775091;51.311627
LOCATION:South Hawley: All Saints
URL:https://www.achurchnearyou.com/church/8180/service-and-events/events/1
 183528/
END:VEVENT
BEGIN:VEVENT
SUMMARY:Sunday Mass
DTSTART;TZID=Europe/London:20260719T091500
DTEND;TZID=Europe/London:20260719T101500
DTSTAMP:20260420T234408Z
UID:11835321784448900.0achurchnearyou
CATEGORIES:
DESCRIPTION:9:15am at All Saints\, Cove
GEO:-0.775091;51.311627
LOCATION:South Hawley: All Saints
URL:https://www.achurchnearyou.com/church/8180/service-and-events/events/1
 183532/
END:VEVENT
BEGIN:VEVENT
SUMMARY:Tea at Two
DTSTART;TZID=Europe/London:20260724T140000
DTEND;TZID=Europe/London:20260724T150000
DTSTAMP:20260420T234408Z
UID:11835281784898000.0achurchnearyou
CATEGORIES:
DESCRIPTION:We meet every Friday. Come and join us for great cake\, tea/co
 ffee and conversation. We look forward to seeing you!
GEO:-0.775091;51.311627
LOCATION:South Hawley: All Saints
URL:https://www.achurchnearyou.com/church/8180/service-and-events/events/1
 183528/
END:VEVENT
BEGIN:VEVENT
SUMMARY:Sunday Mass
DTSTART;TZID=Europe/London:20260726T091500
DTEND;TZID=Europe/London:20260726T101500
DTSTAMP:20260420T234408Z
UID:11835321785053700.0achurchnearyou
CATEGORIES:
DESCRIPTION:9:15am at All Saints\, Cove
GEO:-0.775091;51.311627
LOCATION:South Hawley: All Saints
URL:https://www.achurchnearyou.com/church/8180/service-and-events/events/1
 183532/
END:VEVENT
BEGIN:VEVENT
SUMMARY:Tea at Two
DTSTART;TZID=Europe/London:20260731T140000
DTEND;TZID=Europe/London:20260731T150000
DTSTAMP:20260420T234408Z
UID:11835281785502800.0achurchnearyou
CATEGORIES:
DESCRIPTION:We meet every Friday. Come and join us for great cake\, tea/co
 ffee and conversation. We look forward to seeing you!
GEO:-0.775091;51.311627
LOCATION:South Hawley: All Saints
URL:https://www.achurchnearyou.com/church/8180/service-and-events/events/1
 183528/
END:VEVENT
BEGIN:VEVENT
SUMMARY:Sunday Mass
DTSTART;TZID=Europe/London:20260802T091500
DTEND;TZID=Europe/London:20260802T101500
DTSTAMP:20260420T234408Z
UID:11835321785658500.0achurchnearyou
CATEGORIES:
DESCRIPTION:9:15am at All Saints\, Cove
GEO:-0.775091;51.311627
LOCATION:South Hawley: All Saints
URL:https://www.achurchnearyou.com/church/8180/service-and-events/events/1
 183532/
END:VEVENT
BEGIN:VEVENT
SUMMARY:Tea at Two
DTSTART;TZID=Europe/London:20260807T140000
DTEND;TZID=Europe/London:20260807T150000
DTSTAMP:20260420T234408Z
UID:11835281786107600.0achurchnearyou
CATEGORIES:
DESCRIPTION:We meet every Friday. Come and join us for great cake\, tea/co
 ffee and conversation. We look forward to seeing you!
GEO:-0.775091;51.311627
LOCATION:South Hawley: All Saints
URL:https://www.achurchnearyou.com/church/8180/service-and-events/events/1
 183528/
END:VEVENT
BEGIN:VEVENT
SUMMARY:Sunday Mass
DTSTART;TZID=Europe/London:20260809T091500
DTEND;TZID=Europe/London:20260809T101500
DTSTAMP:20260420T234408Z
UID:11835321786263300.0achurchnearyou
CATEGORIES:
DESCRIPTION:9:15am at All Saints\, Cove
GEO:-0.775091;51.311627
LOCATION:South Hawley: All Saints
URL:https://www.achurchnearyou.com/church/8180/service-and-events/events/1
 183532/
END:VEVENT
BEGIN:VEVENT
SUMMARY:Tea at Two
DTSTART;TZID=Europe/London:20260814T140000
DTEND;TZID=Europe/London:20260814T150000
DTSTAMP:20260420T234408Z
UID:11835281786712400.0achurchnearyou
CATEGORIES:
DESCRIPTION:We meet every Friday. Come and join us for great cake\, tea/co
 ffee and conversation. We look forward to seeing you!
GEO:-0.775091;51.311627
LOCATION:South Hawley: All Saints
URL:https://www.achurchnearyou.com/church/8180/service-and-events/events/1
 183528/
END:VEVENT
BEGIN:VEVENT
SUMMARY:Sunday Mass
DTSTART;TZID=Europe/London:20260816T091500
DTEND;TZID=Europe/London:20260816T101500
DTSTAMP:20260420T234408Z
UID:11835321786868100.0achurchnearyou
CATEGORIES:
DESCRIPTION:9:15am at All Saints\, Cove
GEO:-0.775091;51.311627
LOCATION:South Hawley: All Saints
URL:https://www.achurchnearyou.com/church/8180/service-and-events/events/1
 183532/
END:VEVENT
BEGIN:VEVENT
SUMMARY:Tea at Two
DTSTART;TZID=Europe/London:20260821T140000
DTEND;TZID=Europe/London:20260821T150000
DTSTAMP:20260420T234408Z
UID:11835281787317200.0achurchnearyou
CATEGORIES:
DESCRIPTION:We meet every Friday. Come and join us for great cake\, tea/co
 ffee and conversation. We look forward to seeing you!
GEO:-0.775091;51.311627
LOCATION:South Hawley: All Saints
URL:https://www.achurchnearyou.com/church/8180/service-and-events/events/1
 183528/
END:VEVENT
BEGIN:VEVENT
SUMMARY:Sunday Mass
DTSTART;TZID=Europe/London:20260823T091500
DTEND;TZID=Europe/London:20260823T101500
DTSTAMP:20260420T234408Z
UID:11835321787472900.0achurchnearyou
CATEGORIES:
DESCRIPTION:9:15am at All Saints\, Cove
GEO:-0.775091;51.311627
LOCATION:South Hawley: All Saints
URL:https://www.achurchnearyou.com/church/8180/service-and-events/events/1
 183532/
END:VEVENT
BEGIN:VEVENT
SUMMARY:Tea at Two
DTSTART;TZID=Europe/London:20260828T140000
DTEND;TZID=Europe/London:20260828T150000
DTSTAMP:20260420T234408Z
UID:11835281787922000.0achurchnearyou
CATEGORIES:
DESCRIPTION:We meet every Friday. Come and join us for great cake\, tea/co
 ffee and conversation. We look forward to seeing you!
GEO:-0.775091;51.311627
LOCATION:South Hawley: All Saints
URL:https://www.achurchnearyou.com/church/8180/service-and-events/events/1
 183528/
END:VEVENT
BEGIN:VEVENT
SUMMARY:Sunday Mass
DTSTART;TZID=Europe/London:20260830T091500
DTEND;TZID=Europe/London:20260830T101500
DTSTAMP:20260420T234408Z
UID:11835321788077700.0achurchnearyou
CATEGORIES:
DESCRIPTION:9:15am at All Saints\, Cove
GEO:-0.775091;51.311627
LOCATION:South Hawley: All Saints
URL:https://www.achurchnearyou.com/church/8180/service-and-events/events/1
 183532/
END:VEVENT
BEGIN:VEVENT
SUMMARY:Tea at Two
DTSTART;TZID=Europe/London:20260904T140000
DTEND;TZID=Europe/London:20260904T150000
DTSTAMP:20260420T234408Z
UID:11835281788526800.0achurchnearyou
CATEGORIES:
DESCRIPTION:We meet every Friday. Come and join us for great cake\, tea/co
 ffee and conversation. We look forward to seeing you!
GEO:-0.775091;51.311627
LOCATION:South Hawley: All Saints
URL:https://www.achurchnearyou.com/church/8180/service-and-events/events/1
 183528/
END:VEVENT
BEGIN:VEVENT
SUMMARY:Sunday Mass
DTSTART;TZID=Europe/London:20260906T091500
DTEND;TZID=Europe/London:20260906T101500
DTSTAMP:20260420T234408Z
UID:11835321788682500.0achurchnearyou
CATEGORIES:
DESCRIPTION:9:15am at All Saints\, Cove
GEO:-0.775091;51.311627
LOCATION:South Hawley: All Saints
URL:https://www.achurchnearyou.com/church/8180/service-and-events/events/1
 183532/
END:VEVENT
BEGIN:VEVENT
SUMMARY:Tea at Two
DTSTART;TZID=Europe/London:20260911T140000
DTEND;TZID=Europe/London:20260911T150000
DTSTAMP:20260420T234408Z
UID:11835281789131600.0achurchnearyou
CATEGORIES:
DESCRIPTION:We meet every Friday. Come and join us for great cake\, tea/co
 ffee and conversation. We look forward to seeing you!
GEO:-0.775091;51.311627
LOCATION:South Hawley: All Saints
URL:https://www.achurchnearyou.com/church/8180/service-and-events/events/1
 183528/
END:VEVENT
BEGIN:VEVENT
SUMMARY:Sunday Mass
DTSTART;TZID=Europe/London:20260913T091500
DTEND;TZID=Europe/London:20260913T101500
DTSTAMP:20260420T234408Z
UID:11835321789287300.0achurchnearyou
CATEGORIES:
DESCRIPTION:9:15am at All Saints\, Cove
GEO:-0.775091;51.311627
LOCATION:South Hawley: All Saints
URL:https://www.achurchnearyou.com/church/8180/service-and-events/events/1
 183532/
END:VEVENT
BEGIN:VEVENT
SUMMARY:Tea at Two
DTSTART;TZID=Europe/London:20260918T140000
DTEND;TZID=Europe/London:20260918T150000
DTSTAMP:20260420T234408Z
UID:11835281789736400.0achurchnearyou
CATEGORIES:
DESCRIPTION:We meet every Friday. Come and join us for great cake\, tea/co
 ffee and conversation. We look forward to seeing you!
GEO:-0.775091;51.311627
LOCATION:South Hawley: All Saints
URL:https://www.achurchnearyou.com/church/8180/service-and-events/events/1
 183528/
END:VEVENT
BEGIN:VEVENT
SUMMARY:Sunday Mass
DTSTART;TZID=Europe/London:20260920T091500
DTEND;TZID=Europe/London:20260920T101500
DTSTAMP:20260420T234408Z
UID:11835321789892100.0achurchnearyou
CATEGORIES:
DESCRIPTION:9:15am at All Saints\, Cove
GEO:-0.775091;51.311627
LOCATION:South Hawley: All Saints
URL:https://www.achurchnearyou.com/church/8180/service-and-events/events/1
 183532/
END:VEVENT
BEGIN:VEVENT
SUMMARY:Tea at Two
DTSTART;TZID=Europe/London:20260925T140000
DTEND;TZID=Europe/London:20260925T150000
DTSTAMP:20260420T234408Z
UID:11835281790341200.0achurchnearyou
CATEGORIES:
DESCRIPTION:We meet every Friday. Come and join us for great cake\, tea/co
 ffee and conversation. We look forward to seeing you!
GEO:-0.775091;51.311627
LOCATION:South Hawley: All Saints
URL:https://www.achurchnearyou.com/church/8180/service-and-events/events/1
 183528/
END:VEVENT
BEGIN:VEVENT
SUMMARY:Sunday Mass
DTSTART;TZID=Europe/London:20260927T091500
DTEND;TZID=Europe/London:20260927T101500
DTSTAMP:20260420T234408Z
UID:11835321790496900.0achurchnearyou
CATEGORIES:
DESCRIPTION:9:15am at All Saints\, Cove
GEO:-0.775091;51.311627
LOCATION:South Hawley: All Saints
URL:https://www.achurchnearyou.com/church/8180/service-and-events/events/1
 183532/
END:VEVENT
END:VCALENDAR
