BEGIN:VCALENDAR
VERSION:2.0
PRODID:-//achurchnearyou.com//eventfeed//EN
CALSCALE:GREGORIAN
METHOD:PUBLISH
X-WR-TIMEZONE:UTC
BEGIN:VEVENT
SUMMARY:Simple Praise
DTSTART;TZID=Europe/London:20260510T170000
DTEND;TZID=Europe/London:20260510T180000
DTSTAMP:20260423T060426Z
UID:474272026-05-10 17:00:00+01:00achurchnearyou
CATEGORIES:
DESCRIPTION:A service with modern worship songs for all
GEO:-0.827195;51.120282
LOCATION:All Saints
URL:https://www.achurchnearyou.com/church/8181/service-and-events/events/4
 7427/
END:VEVENT
BEGIN:VEVENT
SUMMARY:Simple Praise
DTSTART;TZID=Europe/London:20260614T170000
DTEND;TZID=Europe/London:20260614T180000
DTSTAMP:20260423T060426Z
UID:474272026-06-14 17:00:00+01:00achurchnearyou
CATEGORIES:
DESCRIPTION:A service with modern worship songs for all
GEO:-0.827195;51.120282
LOCATION:All Saints
URL:https://www.achurchnearyou.com/church/8181/service-and-events/events/4
 7427/
END:VEVENT
BEGIN:VEVENT
SUMMARY:Simple Praise
DTSTART;TZID=Europe/London:20260712T170000
DTEND;TZID=Europe/London:20260712T180000
DTSTAMP:20260423T060426Z
UID:474272026-07-12 17:00:00+01:00achurchnearyou
CATEGORIES:
DESCRIPTION:A service with modern worship songs for all
GEO:-0.827195;51.120282
LOCATION:All Saints
URL:https://www.achurchnearyou.com/church/8181/service-and-events/events/4
 7427/
END:VEVENT
BEGIN:VEVENT
SUMMARY:Simple Praise
DTSTART;TZID=Europe/London:20260809T170000
DTEND;TZID=Europe/London:20260809T180000
DTSTAMP:20260423T060426Z
UID:474272026-08-09 17:00:00+01:00achurchnearyou
CATEGORIES:
DESCRIPTION:A service with modern worship songs for all
GEO:-0.827195;51.120282
LOCATION:All Saints
URL:https://www.achurchnearyou.com/church/8181/service-and-events/events/4
 7427/
END:VEVENT
BEGIN:VEVENT
SUMMARY:Simple Praise
DTSTART;TZID=Europe/London:20260913T170000
DTEND;TZID=Europe/London:20260913T180000
DTSTAMP:20260423T060426Z
UID:474272026-09-13 17:00:00+01:00achurchnearyou
CATEGORIES:
DESCRIPTION:A service with modern worship songs for all
GEO:-0.827195;51.120282
LOCATION:All Saints
URL:https://www.achurchnearyou.com/church/8181/service-and-events/events/4
 7427/
END:VEVENT
BEGIN:VEVENT
SUMMARY:Simple Praise
DTSTART;TZID=Europe/London:20261011T170000
DTEND;TZID=Europe/London:20261011T180000
DTSTAMP:20260423T060426Z
UID:474272026-10-11 17:00:00+01:00achurchnearyou
CATEGORIES:
DESCRIPTION:A service with modern worship songs for all
GEO:-0.827195;51.120282
LOCATION:All Saints
URL:https://www.achurchnearyou.com/church/8181/service-and-events/events/4
 7427/
END:VEVENT
BEGIN:VEVENT
SUMMARY:Simple Praise
DTSTART;TZID=Europe/London:20261108T170000
DTEND;TZID=Europe/London:20261108T180000
DTSTAMP:20260423T060426Z
UID:474272026-11-08 17:00:00+00:00achurchnearyou
CATEGORIES:
DESCRIPTION:A service with modern worship songs for all
GEO:-0.827195;51.120282
LOCATION:All Saints
URL:https://www.achurchnearyou.com/church/8181/service-and-events/events/4
 7427/
END:VEVENT
BEGIN:VEVENT
SUMMARY:Simple Praise
DTSTART;TZID=Europe/London:20261213T170000
DTEND;TZID=Europe/London:20261213T180000
DTSTAMP:20260423T060426Z
UID:474272026-12-13 17:00:00+00:00achurchnearyou
CATEGORIES:
DESCRIPTION:A service with modern worship songs for all
GEO:-0.827195;51.120282
LOCATION:All Saints
URL:https://www.achurchnearyou.com/church/8181/service-and-events/events/4
 7427/
END:VEVENT
BEGIN:VEVENT
SUMMARY:Simple Praise
DTSTART;TZID=Europe/London:20270110T170000
DTEND;TZID=Europe/London:20270110T180000
DTSTAMP:20260423T060426Z
UID:474272027-01-10 17:00:00+00:00achurchnearyou
CATEGORIES:
DESCRIPTION:A service with modern worship songs for all
GEO:-0.827195;51.120282
LOCATION:All Saints
URL:https://www.achurchnearyou.com/church/8181/service-and-events/events/4
 7427/
END:VEVENT
BEGIN:VEVENT
SUMMARY:Simple Praise
DTSTART;TZID=Europe/London:20270214T170000
DTEND;TZID=Europe/London:20270214T180000
DTSTAMP:20260423T060426Z
UID:474272027-02-14 17:00:00+00:00achurchnearyou
CATEGORIES:
DESCRIPTION:A service with modern worship songs for all
GEO:-0.827195;51.120282
LOCATION:All Saints
URL:https://www.achurchnearyou.com/church/8181/service-and-events/events/4
 7427/
END:VEVENT
BEGIN:VEVENT
SUMMARY:Simple Praise
DTSTART;TZID=Europe/London:20270314T170000
DTEND;TZID=Europe/London:20270314T180000
DTSTAMP:20260423T060426Z
UID:474272027-03-14 17:00:00+00:00achurchnearyou
CATEGORIES:
DESCRIPTION:A service with modern worship songs for all
GEO:-0.827195;51.120282
LOCATION:All Saints
URL:https://www.achurchnearyou.com/church/8181/service-and-events/events/4
 7427/
END:VEVENT
BEGIN:VEVENT
SUMMARY:Simple Praise
DTSTART;TZID=Europe/London:20270411T170000
DTEND;TZID=Europe/London:20270411T180000
DTSTAMP:20260423T060426Z
UID:474272027-04-11 17:00:00+01:00achurchnearyou
CATEGORIES:
DESCRIPTION:A service with modern worship songs for all
GEO:-0.827195;51.120282
LOCATION:All Saints
URL:https://www.achurchnearyou.com/church/8181/service-and-events/events/4
 7427/
END:VEVENT
END:VCALENDAR
