BEGIN:VCALENDAR
VERSION:2.0
PRODID:-//achurchnearyou.com//eventfeed//EN
CALSCALE:GREGORIAN
METHOD:PUBLISH
X-WR-TIMEZONE:UTC
BEGIN:VEVENT
SUMMARY:Worship for All for VE Day 80th Anniversary
DTSTART:20250504T090000Z
DTEND:20250504T100000Z
DTSTAMP:20260424T194144Z
UID:11970472025-05-04 09:00:00+00:00achurchnearyou
CATEGORIES:
DESCRIPTION:All are welcome to join us for a special service for this occa
 sion
GEO:-0.323367;51.267535
LOCATION:Mickleham: St Michael and All Angels
URL:https://www.achurchnearyou.com/church/8192/service-and-events/events/1
 197047/
END:VEVENT
END:VCALENDAR
